BEGIN:VCALENDAR
VERSION:2.0
PRODID:-//STRAWANZERIN - ECPv4.9.5//NONSGML v1.0//EN
CALSCALE:GREGORIAN
METHOD:PUBLISH
X-WR-CALNAME:STRAWANZERIN
X-ORIGINAL-URL:https://www.strawanzerin.at
X-WR-CALDESC:Veranstaltungen im STRAWANZERIN
BEGIN:VTIMEZONE
TZID:"Europe/Vienna"
BEGIN:DAYLIGHT
TZOFFSETFROM:+0100
TZOFFSETTO:+0200
TZNAME:CEST
DTSTART:20250330T010000
END:DAYLIGHT
BEGIN:STANDARD
TZOFFSETFROM:+0200
TZOFFSETTO:+0100
TZNAME:CET
DTSTART:20251026T010000
END:STANDARD
END:VTIMEZONE
BEGIN:VEVENT
DTSTART;TZID="Europe/Vienna":20251202T190000
DTEND;TZID="Europe/Vienna":20251202T223000
DTSTAMP:20260420T204717
CREATED:20251113T131828Z
LAST-MODIFIED:20251113T131828Z
UID:111000-1764702000-1764714600@www.strawanzerin.at
SUMMARY:Krieg und Frieden: Ingar Solty bei Lisa Mittendrein
DESCRIPTION:Wer heute gegen Aufrüstung ist\, gilt als naiv. Denn bewaffnete Konflikte und imperiale Auseinandersetzungen spitzen sich zu. Gibt es wirklich keine Alternative zu Krieg und Militarisierung? Warum wird das Sterben von den gesellschaftlichen Eliten so leicht hingenommen und was macht das mit unserer Gesellschaft? Und welche Antworten brauchen linke Bewegungen in einer Zeit des Wettrüstens?\nMit Ingar Solty spricht Lisa Mittendrein über aktuelle Kriege und die dahinterliegende Logik von Imperialismus und Militarisierung. Es geht um die Positionen\, die linke Bewegungen und Parteien in der Geschichte zu Kriegen eingenommen haben\, und um die große Aufgabe\, vor der wir heute stehen: für Frieden zu kämpfen.  \nIngar Solty ist Referent für Friedens- und Sicherheitspolitik am Institut für Gesellschaftsanalyse der Rosa-Luxemburg-Stiftung. Er ist Autor von Trumps Triumph? Der postliberale Kapitalismus und der Edition Marxismen.   \n
URL:https://www.strawanzerin.at/termin/krieg-und-frieden-ingar-solty-bei-lisa-mittendrein/
LOCATION:FLUCC\, Praterstern 5\, Wien\, Wien\, 1020\, Österreich
CATEGORIES:Deutsch,freie Spende,Wien
ATTACH;FMTTYPE=image/jpeg:https://www.strawanzerin.at/wp-content/uploads/2025/11/Ingar_Lisa_orange_1.jpg
ORGANIZER;CN="Attac":MAILTO:infos@attac.at
END:VEVENT
END:VCALENDAR