BEGIN:VCALENDAR
VERSION:2.0
PRODID:-//STRAWANZERIN - ECPv4.9.5//NONSGML v1.0//EN
CALSCALE:GREGORIAN
METHOD:PUBLISH
X-WR-CALNAME:STRAWANZERIN
X-ORIGINAL-URL:https://www.strawanzerin.at
X-WR-CALDESC:Veranstaltungen im STRAWANZERIN
BEGIN:VTIMEZONE
TZID:"Europe/Helsinki"
BEGIN:DAYLIGHT
TZOFFSETFROM:+0200
TZOFFSETTO:+0300
TZNAME:EEST
DTSTART:20140330T010000
END:DAYLIGHT
BEGIN:STANDARD
TZOFFSETFROM:+0300
TZOFFSETTO:+0200
TZNAME:EET
DTSTART:20141026T010000
END:STANDARD
END:VTIMEZONE
BEGIN:VEVENT
DTSTART;TZID="Europe/Helsinki":20141023T130000
DTEND;TZID="Europe/Helsinki":20141024T200000
DTSTAMP:20260422T155301
CREATED:20140905T081939Z
LAST-MODIFIED:20140905T081939Z
UID:4622-1414069200-1414180800@www.strawanzerin.at
SUMMARY:Krise! Welche Krisen? Leben\, Arbeiten\, Sorgen und Geschlecht in der Vielfachkrise
DESCRIPTION:Entgegen der verbreiteten Rede vom Ende der Krise sind die Auswirkungen der Finanz- und Wirtschaftskrise wie auch der politischen Krisenbearbeitung bis heute evident – dies zeigen nicht zuletzt die steigenden Arbeitslosenzahlen\, die Einsparungen im Sozial- und Bildungsbereich sowie neue Artikulationen politischen Protestes – sei es über Umbrüche im Parteiensystem oder der Entstehung neuer Bewegungsformen. Die Tagung möchte diese Entwicklungen seit 2008 in den Blick nehmen\, geht jedoch von der Annahme aus\, dass sich die gegenwärtige Krise nicht auf das Feld der Wirtschaft\, der Banken oder der politischen Institutionen beschränken lässt. Vielmehr zeigen gerade feministische Analysen auf\, dass wir es mit einer „multiplen Krise“ zu tun haben\, die viele gesellschaftliche Teilbereiche\, wie etwa Demokratie\, Familie\, Versorgungs- und Pflegearbeit\, (Arbeits-)Migration etc.\, erfasst hat. \nDie Tagung strebt an\, gerade diese Multiplizität der gesellschaftlichen Krisenphänomene aufzuzeigen und den geschlechtlichen Subtext der gegenwärtigen „multiplen Krise“ zu diskutieren. Dazu werden unterschiedliche Dimensionen der aktuellen Krisen fokussiert: Was sind die geschlechterpolitischen Implikationen aktueller Krisenpolitiken auf nationaler und supranationaler Ebene? Wie verändern sich durch die Krise bestimmte Geschlechterzuschreibungen? Wie hängen Sorgearbeit und Krise zusammen? Inwiefern können die aktuellen Krisen mit Krisen hegemonialer Männlichkeit oder mit dem Erstarken einer Neuen Rechten in Verbindung gebracht werden? Was sollte eine feministischste Kritik der aktuellen Krisen gewährleisten? Welche Parallelitäten zu früheren Wirtschaftskrisen kommen aus einer feministischen Perspektive in den Blick? Wo lassen sich feministische Widerstandspraxen gegen die Krisenbewältigungspolitiken finden? \n
URL:https://www.strawanzerin.at/termin/krise-welche-krisen-leben-arbeiten-sorgen-und-geschlecht-in-der-vielfachkrise/
CATEGORIES:Deutsch,Feminismus,Gratis,Vortrag/Symposium,Wien
ATTACH;FMTTYPE=:
ORGANIZER;CN="Institut%20f%C3%BCr%20Politikwissenschaft":MAILTO:info.wien@gbw.at
END:VEVENT
END:VCALENDAR