BEGIN:VCALENDAR
VERSION:2.0
PRODID:-//STRAWANZERIN - ECPv4.9.5//NONSGML v1.0//EN
CALSCALE:GREGORIAN
METHOD:PUBLISH
X-WR-CALNAME:STRAWANZERIN
X-ORIGINAL-URL:https://www.strawanzerin.at
X-WR-CALDESC:Veranstaltungen im STRAWANZERIN
BEGIN:VTIMEZONE
TZID:"Europe/Vienna"
BEGIN:DAYLIGHT
TZOFFSETFROM:+0100
TZOFFSETTO:+0200
TZNAME:CEST
DTSTART:20250330T010000
END:DAYLIGHT
BEGIN:STANDARD
TZOFFSETFROM:+0200
TZOFFSETTO:+0100
TZNAME:CET
DTSTART:20251026T010000
END:STANDARD
END:VTIMEZONE
BEGIN:VEVENT
DTSTART;TZID="Europe/Vienna":20250127T180000
DTEND;TZID="Europe/Vienna":20250127T180000
DTSTAMP:20260421T025523
CREATED:20241220T110229Z
LAST-MODIFIED:20241220T110229Z
UID:105187-1738000800-1738000800@www.strawanzerin.at
SUMMARY:Kritik der österreichischen Sicherheitsstrategie
DESCRIPTION:Vortrag mit Elfi Schuh (Aktivistin in der Umwelt-\, Friedens- und Frauenbewegung) \nDie Sicherheitsstrategie ist Ausdruck einer angstgetriebenen Politik\, die Zukunftsängste und Bedrohungen nur mit altbewährten gewaltvollen Lösungen in den Griff bekommen will. Welche alternativen Konzepte gibt es\, welche können wir uns ausdenken? \nFortsetzung der Reihe Frauen verstehen viel vom Frieden! Feministische Perspektiven und Gegenstrategien zu Militarismus und Krieg. \nModeration: Birge Krondorfer \nIn Kooperation mit WILPF \nDie Veranstaltung ist für Frauen. \n
URL:https://www.strawanzerin.at/termin/kritik-der-oesterreichischen-sicherheitsstrategie/
LOCATION:Frauenbildungsstätte Frauenhetz\, Untere Weißgerberstraße 41\, Wien\, Wien\, 1030\, Österreich
CATEGORIES:Antimilitarismus,Barrierefrei,Deutsch,Feminismus,Gratis,Wien
GEO:48.2084854;16.3946163
X-APPLE-STRUCTURED-LOCATION;VALUE=URI;X-ADDRESS=Frauenbildungsstätte Frauenhetz Untere Weißgerberstraße 41 Wien Wien 1030 Österreich;X-APPLE-RADIUS=500;X-TITLE=Untere Weißgerberstraße 41:geo:16.3946163,48.2084854
END:VEVENT
END:VCALENDAR