BEGIN:VCALENDAR
VERSION:2.0
PRODID:-//STRAWANZERIN - ECPv4.9.5//NONSGML v1.0//EN
CALSCALE:GREGORIAN
METHOD:PUBLISH
X-WR-CALNAME:STRAWANZERIN
X-ORIGINAL-URL:https://www.strawanzerin.at
X-WR-CALDESC:Veranstaltungen im STRAWANZERIN
BEGIN:VTIMEZONE
TZID:"Europe/Vienna"
BEGIN:DAYLIGHT
TZOFFSETFROM:+0100
TZOFFSETTO:+0200
TZNAME:CEST
DTSTART:20240331T010000
END:DAYLIGHT
BEGIN:STANDARD
TZOFFSETFROM:+0200
TZOFFSETTO:+0100
TZNAME:CET
DTSTART:20241027T010000
END:STANDARD
END:VTIMEZONE
BEGIN:VEVENT
DTSTART;TZID="Europe/Vienna":20240507T180000
DTEND;TZID="Europe/Vienna":20240507T180000
DTSTAMP:20260420T202828
CREATED:20240425T151228Z
LAST-MODIFIED:20240425T151228Z
UID:98408-1715104800-1715104800@www.strawanzerin.at
SUMMARY:Kritik und Konflikt: Die Zeitschrift ‚Die Schwarze Botin‘ in der autonomen Frauenbewegung
DESCRIPTION:Lesung und Gespräch \nDas feministische Denken der autonomen Frauenbewegung der 1970er Jahre entsteht durch Dissens und Konflikt. Das zeigt sich an der Zeitschrift ‚Die Schwarze Botin‘ (1976–1986/87)\, die „aus der Frauenbewegung die Kritik der Frauenbewegung“ leisten wollte. Das gleichnamige Buch (Mandelbaum Verlag 2022) widmet sich den Auseinandersetzungen um feministische Theoriebildung in der autonomen Frauenbewegung. Im Mittelpunkt der Lesung stehen der historische Entstehungszusammenhang der Zeitschrift\, ihr Konflikt mit der feministischen Zeitschrift ‚Courage‘ sowie Motive ihrer Ideologiekritik. \nMit Katharina Lux (feministische Autorin u.a. outside the box\, translib Leipzig; Erziehungswissenschaft Humboldt-Universität Berlin) \nModeration: Birge Krondorfer \nDie Veranstaltung ist für Frauen. \n
URL:https://www.strawanzerin.at/termin/kritik-und-konflikt-die-zeitschrift-die-schwarze-botin-in-der-autonomen-frauenbewegung/
LOCATION:Frauenbildungsstätte Frauenhetz\, Untere Weißgerberstraße 41\, Wien\, Wien\, 1030\, Österreich
CATEGORIES:Bildung,Deutsch,Feminismus,Gratis,Medien,Soziale Kämpfe,Vortrag/Symposium,Wien
GEO:48.2084854;16.3946163
X-APPLE-STRUCTURED-LOCATION;VALUE=URI;X-ADDRESS=Frauenbildungsstätte Frauenhetz Untere Weißgerberstraße 41 Wien Wien 1030 Österreich;X-APPLE-RADIUS=500;X-TITLE=Untere Weißgerberstraße 41:geo:16.3946163,48.2084854
END:VEVENT
END:VCALENDAR