BEGIN:VCALENDAR
VERSION:2.0
PRODID:-//STRAWANZERIN - ECPv4.9.5//NONSGML v1.0//EN
CALSCALE:GREGORIAN
METHOD:PUBLISH
X-WR-CALNAME:STRAWANZERIN
X-ORIGINAL-URL:https://www.strawanzerin.at
X-WR-CALDESC:Veranstaltungen im STRAWANZERIN
BEGIN:VTIMEZONE
TZID:"Europe/Helsinki"
BEGIN:DAYLIGHT
TZOFFSETFROM:+0200
TZOFFSETTO:+0300
TZNAME:EEST
DTSTART:20160327T010000
END:DAYLIGHT
BEGIN:STANDARD
TZOFFSETFROM:+0300
TZOFFSETTO:+0200
TZNAME:EET
DTSTART:20161030T010000
END:STANDARD
END:VTIMEZONE
BEGIN:VEVENT
DTSTART;TZID="Europe/Helsinki":20160511T150000
DTEND;TZID="Europe/Helsinki":20160511T160000
DTSTAMP:20260420T194411
CREATED:20160506T091256Z
LAST-MODIFIED:20160510T085545Z
UID:28379-1462978800-1462982400@www.strawanzerin.at
SUMMARY:Küche für Alle
DESCRIPTION:KüfA-Küche für Alle \nHallo alle Politischen\, Hallo alle Lebensmittelretter_innen\, Hallo alle Hungrigen: Jeden Mittwoch findet die KüfA in der HUS (rathausstraße 19-21) statt. Ab 13:00 werden vor oder aus dem Müll gerettete Lebensmittel verkocht und ab 15:00 gibt es Essen für Alle! \nwürd uns freuen wenn Du kommst! \n
URL:https://www.strawanzerin.at/termin/kuefa-kueche-fuer-alle/2016-05-11/
LOCATION:HUS\, Rathausstrasse 19-21\, Wien\, Wien\, 1010\, Österreich
CATEGORIES:Essen/Vokü,Gratis,Sonstiges,Wien
GEO:48.213771;16.357046
X-APPLE-STRUCTURED-LOCATION;VALUE=URI;X-ADDRESS=HUS Rathausstrasse 19-21 Wien Wien 1010 Österreich;X-APPLE-RADIUS=500;X-TITLE=Rathausstrasse 19-21:geo:16.357046,48.213771
END:VEVENT
END:VCALENDAR