BEGIN:VCALENDAR
VERSION:2.0
PRODID:-//STRAWANZERIN - ECPv4.9.5//NONSGML v1.0//EN
CALSCALE:GREGORIAN
METHOD:PUBLISH
X-WR-CALNAME:STRAWANZERIN
X-ORIGINAL-URL:https://www.strawanzerin.at
X-WR-CALDESC:Veranstaltungen im STRAWANZERIN
BEGIN:VTIMEZONE
TZID:"Europe/Vienna"
BEGIN:DAYLIGHT
TZOFFSETFROM:+0100
TZOFFSETTO:+0200
TZNAME:CEST
DTSTART:20200329T010000
END:DAYLIGHT
BEGIN:STANDARD
TZOFFSETFROM:+0200
TZOFFSETTO:+0100
TZNAME:CET
DTSTART:20201025T010000
END:STANDARD
END:VTIMEZONE
BEGIN:VEVENT
DTSTART;TZID="Europe/Vienna":20200929T170000
DTEND;TZID="Europe/Vienna":20200929T190000
DTSTAMP:20260422T070606
CREATED:20200925T081844Z
LAST-MODIFIED:20200925T081844Z
UID:75653-1601398800-1601406000@www.strawanzerin.at
SUMMARY:Künstler/innen im Dialog mit Itai Margula
DESCRIPTION:Die Absolvent/innen der Schule Friedl Kubelka für künstlerische Photographie sprechen über ihre Werke und zeigen dabei das breite und offene Verständnis von Fotografie\, das in ihrer Ausbildung vermittelt wird. Im Dialog mit Itai Margula werden die in medienübergreifenden Schau angesprochenen Themenbereiche von Bühne\, Narration\, hin zu Sprache und Begegnungen präsentiert. \n
URL:https://www.strawanzerin.at/termin/kuenstler-innen-im-dialog-mit-itai-margula/
LOCATION:das weisse haus\, Hegelgasse 14\, 1010 Wien\, Wien\, Wien\, 1010\, Österreich
CATEGORIES:Ausstellung,Rundgang
ATTACH;FMTTYPE=image/jpeg:https://www.strawanzerin.at/wp-content/uploads/2020/09/ESEL6229-klein.jpg
ORGANIZER;CN="Kunstverein%20das%20weisse%20haus":MAILTO:buero@dasweissehaus.at
END:VEVENT
END:VCALENDAR