BEGIN:VCALENDAR
VERSION:2.0
PRODID:-//STRAWANZERIN - ECPv4.9.5//NONSGML v1.0//EN
CALSCALE:GREGORIAN
METHOD:PUBLISH
X-WR-CALNAME:STRAWANZERIN
X-ORIGINAL-URL:https://www.strawanzerin.at
X-WR-CALDESC:Veranstaltungen im STRAWANZERIN
BEGIN:VTIMEZONE
TZID:"Europe/Vienna"
BEGIN:DAYLIGHT
TZOFFSETFROM:+0100
TZOFFSETTO:+0200
TZNAME:CEST
DTSTART:20180325T010000
END:DAYLIGHT
BEGIN:STANDARD
TZOFFSETFROM:+0200
TZOFFSETTO:+0100
TZNAME:CET
DTSTART:20181028T010000
END:STANDARD
END:VTIMEZONE
BEGIN:VEVENT
DTSTART;TZID="Europe/Vienna":20180825T080000
DTEND;TZID="Europe/Vienna":20180825T170000
DTSTAMP:20260421T104132
CREATED:20180825T123421Z
LAST-MODIFIED:20180827T083939Z
UID:58429-1535184000-1535216400@www.strawanzerin.at
SUMMARY:Kulturfest 1.0 am Atzgersdorfer Kirchenplatz - OPENAIR am 28. September 2018 bei FREIEN EINTRITT
DESCRIPTION:Kulturfest 1.0 am Atzgersdorfer Kirchenplatz\nFreiluftveranstaltung am 28. September 2018 \nLiesing-Atzgersdorf/Kleinkunst-Café GenussSpiegel – Café\, Kunst und Kulinarik (Wien) \nDas Kleinkunstcafé GenussSpiegel in Atzgersdorf\, 1230 Wien – bekannt für seine vielfältigen Veranstaltungen – organisiert am 28. September 2018 das Kulturfest 1.0 am Atzgersdorfer Kirchenplatz (Kirchenplatz 1\, 1230 Wien) als Freiluftveranstaltung bei FREIEN EINTRITT. \nAb 12:00 Uhr wird den Gästen an diesem Tag eine Mischung aus Kinderprogrammen\, eine Überraschungsshow von bildenden Künstlern aus dem 23. Bezirk\, einer Theater-Uraufführung sowie ein musikalisches Konzert geboten. Kulinarisch begleitet wird die Veranstaltung ganztägig durch eine Show-Küche. Den zahlreichen Besuchern der Veranstaltung werden auch Craft-Biere der in Atzgersdorf angesiedelten Bier-Brauerei 100BLUMEN sowie weitere BIO-Produkte vom Klein- und Mikroproduzenten aus dem GenussSpiegel angeboten. \nDie Veranstaltung wird vom BEZIRK LIESING und der WIRTSCHAFTSKAMMER WIEN unterstützt. \nProgramm (ab 12:00 Uhr) \nKulinarik Showküche powered by BEZIRKSALM \n14:00 Uhr Kinderprogramm\nUMUT – der kleine Elefant\nvon & mit Schauspielerin Mirjam PLOTENY \n15:00 Uhr\n„SPRICH(T) KUNST MIT UNS!?“\nBildende Künstler überraschen \n16:00 Uhr\nTheater WIENDRAMA\nFeuersalamander 451\nvon Bernd Watzka \n18:00 Uhr\nWIENER BESCHWERDECHOR \nRückfragen & Kontakt Veranstaltungsorganisation:\nKleinkunst-Café GenussSpiegel – Café\, Kunst & Kulinarik\nSabina Anna PEKAREK\, Geschäftsführerin\nTel. 0676 5723023\noffice@genuss-spiegel.at \nCafè GenussSpiegel \n\nhttps://www.facebook.com/GenussSpiegel \nKulturfest 1.0 am Atzgersdorfer Kirchenplatz\nhttps://www.facebook.com/Kulturfest.Atzgersdorf \n
URL:https://www.strawanzerin.at/termin/kulturfest-1-0-am-atzgersdorfer-kirchenplatz-openair-am-28-september-2018-bei-freien-eintritt/
LOCATION:Kleinkunst-Café GenussSpiegel – Café\, Kunst & Kulinarik\, Levasseurgasse 19\, Wien\, Wien\, 1230\, Österreich
CATEGORIES:Kinderkultur,Kunst/Kultur,Musik,Theater/Kabarett
ATTACH;FMTTYPE=image/jpeg:https://www.strawanzerin.at/wp-content/uploads/2018/08/Plakat_KulturFest_1.0@2018_GenussSpiegel.jpg
ORGANIZER;CN="Kleinkunst-Caf%C3%A9%20GenussSpiegel":MAILTO:office@genuss-spiegel.at
GEO:48.1471746;16.2947927
X-APPLE-STRUCTURED-LOCATION;VALUE=URI;X-ADDRESS=Kleinkunst-Café GenussSpiegel – Café Kunst & Kulinarik Levasseurgasse 19 Wien Wien 1230 Österreich;X-APPLE-RADIUS=500;X-TITLE=Levasseurgasse 19:geo:16.2947927,48.1471746
END:VEVENT
END:VCALENDAR