BEGIN:VCALENDAR
VERSION:2.0
PRODID:-//STRAWANZERIN - ECPv4.9.5//NONSGML v1.0//EN
CALSCALE:GREGORIAN
METHOD:PUBLISH
X-WR-CALNAME:STRAWANZERIN
X-ORIGINAL-URL:https://www.strawanzerin.at
X-WR-CALDESC:Veranstaltungen im STRAWANZERIN
BEGIN:VTIMEZONE
TZID:"Europe/Helsinki"
BEGIN:DAYLIGHT
TZOFFSETFROM:+0200
TZOFFSETTO:+0300
TZNAME:EEST
DTSTART:20150329T010000
END:DAYLIGHT
BEGIN:STANDARD
TZOFFSETFROM:+0300
TZOFFSETTO:+0200
TZNAME:EET
DTSTART:20151025T010000
END:STANDARD
END:VTIMEZONE
BEGIN:VEVENT
DTSTART;TZID="Europe/Helsinki":20150223T090000
DTEND;TZID="Europe/Helsinki":20150226T190000
DTSTAMP:20260420T170308
CREATED:20150204T102750Z
LAST-MODIFIED:20150213T154505Z
UID:11129-1424682000-1424977200@www.strawanzerin.at
SUMMARY:Kunst ersteigern und helfen - Ausstellung
DESCRIPTION:Ausstellung der Benefiz Auktion zugunsten der CS Hospiz Rennweg \n
URL:https://www.strawanzerin.at/termin/kunst-ersteigern-und-helfen-ausstellung/
LOCATION:Österreich
CATEGORIES:Ausstellung,Deutsch,Gratis,Kunst/Kultur,Wien
ATTACH;FMTTYPE=:
ORGANIZER;CN="Michael%20Schmidt-Ott":MAILTO:M.Schmidt-Ott@gmx.at
END:VEVENT
END:VCALENDAR