BEGIN:VCALENDAR
VERSION:2.0
PRODID:-//STRAWANZERIN - ECPv4.9.5//NONSGML v1.0//EN
CALSCALE:GREGORIAN
METHOD:PUBLISH
X-WR-CALNAME:STRAWANZERIN
X-ORIGINAL-URL:https://www.strawanzerin.at
X-WR-CALDESC:Veranstaltungen im STRAWANZERIN
BEGIN:VTIMEZONE
TZID:"Europe/Vienna"
BEGIN:DAYLIGHT
TZOFFSETFROM:+0100
TZOFFSETTO:+0200
TZNAME:CEST
DTSTART:20200329T010000
END:DAYLIGHT
BEGIN:STANDARD
TZOFFSETFROM:+0200
TZOFFSETTO:+0100
TZNAME:CET
DTSTART:20201025T010000
END:STANDARD
END:VTIMEZONE
BEGIN:VEVENT
DTSTART;TZID="Europe/Vienna":20200217T110000
DTEND;TZID="Europe/Vienna":20200222T200000
DTSTAMP:20260421T053945
CREATED:20200219T105856Z
LAST-MODIFIED:20200219T105856Z
UID:71911-1581937200-1582401600@www.strawanzerin.at
SUMMARY:„Kunst ist Ewigkeit“ zeigt die Galerie Sandpeck Wien 8
DESCRIPTION:„Kunst ist Ewigkeit“\npräsentieren in der Galerie Sandpeck Wien 8\nSima Pour Abdollah\, Sara Afzali\, Saeid Aryafetrat\, Fatemeh Asghari\, Niloofar Jalalian\, Maryam Masoum\, Elmira Moradian\, Maral Peiravi\, Maryam Rajabi\, Fatemeh Rismankar\, Nafise Tawakoli\, Maryam Wafadar\, Shanaz Wazirzade \nAusstellung: Montag 17.2. – Sonntag 23.2.2020\nÖffnungszeiten: Montag – Samstag 11 – 20 Uhr\nSonntag 10 – 12 Uhr \n1080 Wien\, Florianigasse 75\nmehr www.sandpeck.com\nfreier Eintritt! \n12 Künstlerinnen und 1 Künstler aus Persien vom Verein\n„Iranische Kultur in Wien“ zeigen traditionelle Kunst und Handwerk ihrer Heimat. \n
URL:https://www.strawanzerin.at/termin/kunst-ist-ewigkeit-zeigt-die-galerie-sandpeck-wien-8/2020-02-17/
LOCATION:Galerie Sandpeck Wien 8\, Florianigasse 75\, Wien\, Wien\, 1080\, Österreich
CATEGORIES:Ausstellung,Deutsch,Gratis,Kunst/Kultur,Wien
ATTACH;FMTTYPE=image/jpeg:https://www.strawanzerin.at/wp-content/uploads/2020/02/PR_Persische_Kunst_Iranisches_Kunsthandwerk_2020_72.jpg
ORGANIZER;CN="Galerie%20Sandpeck%20Wien%208":MAILTO:christiane@sandpeck.com
GEO:48.2119839;16.3409609
X-APPLE-STRUCTURED-LOCATION;VALUE=URI;X-ADDRESS=Galerie Sandpeck Wien 8 Florianigasse 75 Wien Wien 1080 Österreich;X-APPLE-RADIUS=500;X-TITLE=Florianigasse 75:geo:16.3409609,48.2119839
END:VEVENT
END:VCALENDAR