BEGIN:VCALENDAR
VERSION:2.0
PRODID:-//STRAWANZERIN - ECPv4.9.5//NONSGML v1.0//EN
CALSCALE:GREGORIAN
METHOD:PUBLISH
X-WR-CALNAME:STRAWANZERIN
X-ORIGINAL-URL:https://www.strawanzerin.at
X-WR-CALDESC:Veranstaltungen im STRAWANZERIN
BEGIN:VTIMEZONE
TZID:"Europe/Helsinki"
BEGIN:DAYLIGHT
TZOFFSETFROM:+0200
TZOFFSETTO:+0300
TZNAME:EEST
DTSTART:20150329T010000
END:DAYLIGHT
BEGIN:STANDARD
TZOFFSETFROM:+0300
TZOFFSETTO:+0200
TZNAME:EET
DTSTART:20151025T010000
END:STANDARD
END:VTIMEZONE
BEGIN:VEVENT
DTSTART;TZID="Europe/Helsinki":20150216T190000
DTEND;TZID="Europe/Helsinki":20150216T204500
DTSTAMP:20260420T182511
CREATED:20150125T170934Z
LAST-MODIFIED:20150128T092540Z
UID:11036-1424113200-1424119500@www.strawanzerin.at
SUMMARY:Kunst und Wert
DESCRIPTION:Die Kunst hat in der Gesellschaft eine besondere Stellung: Ihre\n Freiheit ist in Österreich seit über 30 Jahren per Verfassung garantiert und ihre finanzielle Förderung gesetzlich verankert. Die großen kulturpolitischen Themen der letzten Monate – vom Burgtheater-Skandal über die Frage des Ankaufs der Kunstsammlung Essl bis hin zum Mehrwertsteuersatz auf E-Books oder der Festplattenabgabe – haben aber gezeigt\, dass jene Werthaltungen\, die dieser Stellung zugrunde liegen\, nicht selbstverständlich sind. So muss auch die Kunst ihre Angebote an eine Gesellschaft\, in welcher die Spannung zwischen ideellen Werten und ökonomischer Bewertung\n stetig steigt\, immer wieder neu begründen. Im Zuge der Finanzierungskrisen der öffentlichen Haushalte sind dabei Schließungen von Kunsteinrichtungen eine nicht auszuschließende Maßnahme\, ja werden in manchen Diskussionsbeiträgen sogar laut gefordert. \nIn der losen Diskussionsreihe KUNST UND WERT versuchen wir einen Befund zu entwickeln\, welchen Wert die Kunst im Allgemeinen und in ihren unterschiedlichen Sparten in der Gesellschaft inne hat. Die vier geplanten Veranstaltungen befassen sich der Reihe nach mit den Feldern Theater\, Musik\, Bildende Kunst und Literatur. \n
URL:https://www.strawanzerin.at/termin/kunst-und-wert-2/
LOCATION:TAG – Theater an der Gumpendorfer Straße\, Gumpendorfer Straße 67\, Wien\, Wien\, 1060\, Österreich
CATEGORIES:Deutsch,Gratis,Kunst/Kultur,Vortrag/Symposium,Wien
ATTACH;FMTTYPE=image/jpeg:https://www.strawanzerin.at/wp-content/uploads/2015/01/KunstundWert_c_AnnaStoecher_9773_ach-edit_.jpg
ORGANIZER;CN="TAG%20-%20Theater%20an%20der%20Gumpendorfer%20Stra%C3%9Fe":MAILTO:karten@dastag.at
GEO:48.1954875;16.3512933
X-APPLE-STRUCTURED-LOCATION;VALUE=URI;X-ADDRESS=TAG – Theater an der Gumpendorfer Straße Gumpendorfer Straße 67 Wien Wien 1060 Österreich;X-APPLE-RADIUS=500;X-TITLE=Gumpendorfer Straße 67:geo:16.3512933,48.1954875
END:VEVENT
END:VCALENDAR