BEGIN:VCALENDAR
VERSION:2.0
PRODID:-//STRAWANZERIN - ECPv4.9.5//NONSGML v1.0//EN
CALSCALE:GREGORIAN
METHOD:PUBLISH
X-WR-CALNAME:STRAWANZERIN
X-ORIGINAL-URL:https://www.strawanzerin.at
X-WR-CALDESC:Veranstaltungen im STRAWANZERIN
BEGIN:VTIMEZONE
TZID:"Europe/Helsinki"
BEGIN:DAYLIGHT
TZOFFSETFROM:+0200
TZOFFSETTO:+0300
TZNAME:EEST
DTSTART:20150329T010000
END:DAYLIGHT
BEGIN:STANDARD
TZOFFSETFROM:+0300
TZOFFSETTO:+0200
TZNAME:EET
DTSTART:20151025T010000
END:STANDARD
END:VTIMEZONE
BEGIN:VEVENT
DTSTART;TZID="Europe/Helsinki":20150210T140000
DTEND;TZID="Europe/Helsinki":20150210T140000
DTSTAMP:20260421T224010
CREATED:20150108T162948Z
LAST-MODIFIED:20150108T163031Z
UID:10426-1423576800-1423576800@www.strawanzerin.at
SUMMARY:Kuschel-Freunde
DESCRIPTION:Ab 10. Februar 2015 wird es so richtig kuschelig im Spielzeugmuseum\, denn dann dreht sich alles ums Kuscheltier. Es begleitet uns überall hin\, hört sich geduldig jede Geschichte an und spendet Wärme und Trost. In der Ausstellung können die Besucher vielfältige Stofftiere -vom klassischen Teddy bis hin zum kunterbunten Kuschelmonster- bestaunen und bekuscheln. Die flauschigen Schätze stammen dabei alle aus der Sammlung des Spielzeug Museums. Die Ausstellung für alle Kuscheltierfans läuft bis November 2015. \n
URL:https://www.strawanzerin.at/termin/kuschel-freunde/2015-02-10/
LOCATION:Österreich
CATEGORIES:Ausstellung,bis 7,Salzburg
ATTACH;FMTTYPE=:
END:VEVENT
END:VCALENDAR