BEGIN:VCALENDAR
VERSION:2.0
PRODID:-//STRAWANZERIN - ECPv4.9.5//NONSGML v1.0//EN
CALSCALE:GREGORIAN
METHOD:PUBLISH
X-WR-CALNAME:STRAWANZERIN
X-ORIGINAL-URL:https://www.strawanzerin.at
X-WR-CALDESC:Veranstaltungen im STRAWANZERIN
BEGIN:VTIMEZONE
TZID:"Europe/Paris"
BEGIN:DAYLIGHT
TZOFFSETFROM:+0100
TZOFFSETTO:+0200
TZNAME:CEST
DTSTART:20150329T010000
END:DAYLIGHT
BEGIN:STANDARD
TZOFFSETFROM:+0200
TZOFFSETTO:+0100
TZNAME:CET
DTSTART:20151025T010000
END:STANDARD
END:VTIMEZONE
BEGIN:VEVENT
DTSTART;TZID="Europe/Paris":20150625T193000
DTEND;TZID="Europe/Paris":20150625T193000
DTSTAMP:20260421T104454
CREATED:20150522T124354Z
LAST-MODIFIED:20150602T141426Z
UID:14997-1435260600-1435260600@www.strawanzerin.at
SUMMARY:K´UYCHIPACHA – Malerei aus der Welt des Regenbogens
DESCRIPTION:Ausstellung mit Arbeiten von Berónica Delgado Sànchez\, Leonarda Ayarza Romero de Brozovic und Marcial Quispe-Quispe aus Cusco/Peru.\nAusstellung bis 4. September 2015  \nDie drei KünstlerInnen aus dem peruanischen Hochland fühlen sich eng mit den künstlerischen Traditionen ihres Landes verbunden. In ihren Arbeiten reflektieren sie die vielfältige kulturelle Vergangenheit\, die geprägt ist von zahlreichen Mythen\, Kämpfen\, Phantasien und einer tiefen Verbundenheit mit der Natur. Stilistisch unterschiedlich arbeitend\, möchten alle drei ihre Kunst als Botschaft für ein freundschaftliches Miteinander\, für Kooperation und Solidarität verstanden wissen. \n
URL:https://www.strawanzerin.at/termin/kuychipacha-malerei-aus-der-welt-des-regenbogens/
LOCATION:POOL7\, Rudolfsplatz 9\, Wien\, Wien\, 1010\, Österreich
CATEGORIES:Ausstellung,freie Spende,Kunst/Kultur,Wien
ATTACH;FMTTYPE=:
ORGANIZER;CN="POOL7":MAILTO:office@pool7.at
GEO:48.213565;16.3719448
X-APPLE-STRUCTURED-LOCATION;VALUE=URI;X-ADDRESS=POOL7 Rudolfsplatz 9 Wien Wien 1010 Österreich;X-APPLE-RADIUS=500;X-TITLE=Rudolfsplatz 9:geo:16.3719448,48.213565
END:VEVENT
END:VCALENDAR