BEGIN:VCALENDAR
VERSION:2.0
PRODID:-//STRAWANZERIN - ECPv4.9.5//NONSGML v1.0//EN
CALSCALE:GREGORIAN
METHOD:PUBLISH
X-WR-CALNAME:STRAWANZERIN
X-ORIGINAL-URL:https://www.strawanzerin.at
X-WR-CALDESC:Veranstaltungen im STRAWANZERIN
BEGIN:VTIMEZONE
TZID:"Europe/Vienna"
BEGIN:DAYLIGHT
TZOFFSETFROM:+0100
TZOFFSETTO:+0200
TZNAME:CEST
DTSTART:20170326T010000
END:DAYLIGHT
BEGIN:STANDARD
TZOFFSETFROM:+0200
TZOFFSETTO:+0100
TZNAME:CET
DTSTART:20171029T010000
END:STANDARD
END:VTIMEZONE
BEGIN:VEVENT
DTSTART;TZID="Europe/Vienna":20171017T201500
DTEND;TZID="Europe/Vienna":20171017T221500
DTSTAMP:20260420T174834
CREATED:20171002T141004Z
LAST-MODIFIED:20171004T143912Z
UID:47352-1508271300-1508278500@www.strawanzerin.at
SUMMARY:«Ladykillers» mischen Komödie am Kai auf
DESCRIPTION:Rabenschwarzer Krimispaß mit Burgschauspielerin Ulli Fessl \nEine reizende alte Dame\, die alleine in ihrem Haus im Kolonialstil am Ende einer einsamen Straße wohnt\, und vier Gangster\, die über Leichen gehen… Das sind die Zutaten dieser rabenschwarzen Komödie\, die bereits bei ihrem Leinwanddebüt im Jahr 1955 Berühmtheit erlangte. Später geriet der Lachschlager auch auf der Bühne zum Kultstück. Von 17. Oktober bis 6. Jänner sorgt Burgschauspielerin Ulli Fessl als rührige Witwe Margret Wilberforth in der Komödie am Kai für herzliche Lacher und beste Theaterunterhaltung. \nVorstellungen:\n17. Oktober 2017 bis 6. Jänner 2018\, DI bis SA 20.15 Uhr \nInfo:\nTel. 01 533 24 34 \nFoto: Burgschauspielerin Ulli Fessl (rechts) als reizende alte Dame im Lachschlager »Ladykillers«\, Foto/© Komödie am Kai \n
URL:https://www.strawanzerin.at/termin/ladykillers-mischen-komoedie-am-kai-auf/2017-10-17/
LOCATION:Komödie am Kai\, Franz-Josefs-Kai 29\, Wien\, Wien\, 1010\, Österreich
CATEGORIES:ab 7,Theater/Kabarett,Wien
ATTACH;FMTTYPE=image/jpeg:https://www.strawanzerin.at/wp-content/uploads/2017/09/presse220.jpg
GEO:48.2121522;16.3749182
X-APPLE-STRUCTURED-LOCATION;VALUE=URI;X-ADDRESS=Komödie am Kai Franz-Josefs-Kai 29 Wien Wien 1010 Österreich;X-APPLE-RADIUS=500;X-TITLE=Franz-Josefs-Kai 29:geo:16.3749182,48.2121522
END:VEVENT
END:VCALENDAR