BEGIN:VCALENDAR
VERSION:2.0
PRODID:-//STRAWANZERIN - ECPv4.9.5//NONSGML v1.0//EN
CALSCALE:GREGORIAN
METHOD:PUBLISH
X-WR-CALNAME:STRAWANZERIN
X-ORIGINAL-URL:https://www.strawanzerin.at
X-WR-CALDESC:Veranstaltungen im STRAWANZERIN
BEGIN:VTIMEZONE
TZID:"Europe/Helsinki"
BEGIN:DAYLIGHT
TZOFFSETFROM:+0200
TZOFFSETTO:+0300
TZNAME:EEST
DTSTART:20160327T010000
END:DAYLIGHT
BEGIN:STANDARD
TZOFFSETFROM:+0300
TZOFFSETTO:+0200
TZNAME:EET
DTSTART:20161030T010000
END:STANDARD
END:VTIMEZONE
BEGIN:VEVENT
DTSTART;TZID="Europe/Helsinki":20161218T150000
DTEND;TZID="Europe/Helsinki":20161218T160000
DTSTAMP:20260421T003926
CREATED:20161123T122230Z
LAST-MODIFIED:20161125T113119Z
UID:37044-1482073200-1482076800@www.strawanzerin.at
SUMMARY:Lalala – Konzerte für Kinder: Griechische Lieder
DESCRIPTION:Griechische Lieder \nLoukia Agapiou kommt aus einem Land\, in dem 365 Tage im Jahr die Sonne scheint: Griechenland! In der Mitte sind die Berge und rundherum das Meer. Die Fische und die Korallen sind dort zu Hause und oben fahren die Boote auf dem glitzernden Wasser. Wenn wir ganz leise sind\, können wir in der Ferne die griechischen Lieder hören\, die aus den Tavernen durch die Buchten schallen. Die Fische blubbern dazu im Rhythmus\, die Wellen tanzen zu den Melodien. \nLoukia Agapiou – Gesang\nAleksandar Pandilovski – Klavier \nEintritt pro Person: € 5\,-\nErmäßigung mit der wienXtra kinderaktivcard: € 4\,-  \n
URL:https://www.strawanzerin.at/termin/lalala-konzerte-fuer-kinder-griechische-lieder/
LOCATION:Wohnprojekt Wien\, Krakauerstraße 19\, Wien\, 1020\, Österreich
CATEGORIES:bis 7,Kinderkultur,Wien
ATTACH;FMTTYPE=image/jpeg:https://www.strawanzerin.at/wp-content/uploads/2016/11/strawanzerin.jpg
ORGANIZER;CN="kulturen%20in%20bewegung":MAILTO:brotzge@vidc.org
GEO:48.2258104;16.3942344
X-APPLE-STRUCTURED-LOCATION;VALUE=URI;X-ADDRESS=Wohnprojekt Wien Krakauerstraße 19 Wien 1020 Österreich;X-APPLE-RADIUS=500;X-TITLE=Krakauerstraße 19:geo:16.3942344,48.2258104
END:VEVENT
END:VCALENDAR