BEGIN:VCALENDAR
VERSION:2.0
PRODID:-//STRAWANZERIN - ECPv4.9.5//NONSGML v1.0//EN
CALSCALE:GREGORIAN
METHOD:PUBLISH
X-WR-CALNAME:STRAWANZERIN
X-ORIGINAL-URL:https://www.strawanzerin.at
X-WR-CALDESC:Veranstaltungen im STRAWANZERIN
BEGIN:VTIMEZONE
TZID:"Europe/Vienna"
BEGIN:DAYLIGHT
TZOFFSETFROM:+0100
TZOFFSETTO:+0200
TZNAME:CEST
DTSTART:20240331T010000
END:DAYLIGHT
BEGIN:STANDARD
TZOFFSETFROM:+0200
TZOFFSETTO:+0100
TZNAME:CET
DTSTART:20241027T010000
END:STANDARD
END:VTIMEZONE
BEGIN:VEVENT
DTSTART;TZID="Europe/Vienna":20240606T180000
DTEND;TZID="Europe/Vienna":20240606T200000
DTSTAMP:20260422T140511
CREATED:20240524T111624Z
LAST-MODIFIED:20240524T111624Z
UID:99466-1717696800-1717704000@www.strawanzerin.at
SUMMARY:Land und Leute\, Kühe und Wölfe
DESCRIPTION:Kombiführung Az W & hdgö \nAnlässlich der Ausstellungen „Über Tourismus“ und „Holidays in Austria“ \nBei dieser Kombiührung geht es um das Verhältnis zwischen Landwirtschaft und Tourismus: Handelt es sich um eine Symbiose oder um Widersacher? Wem gehören die Kulturlandschaften\, die der Tourismus bewirbt und wer kümmert sich um ihren Erhalt? Wer darf die Landschaft wie nutzen? Wer profitiert\, wer zahlt? \nKombi-Führung „Land und Leute\, Kühe und Wölfe“: Do 06.06.\, 18:00–20:00\nDie Führung startet um 18:00 im Az W und endet im hdgö in der Neuen Burg am Heldenplatz.\nTicket: € 15 (inkl. Eintritt in beide Häuser) \nParallel zu „Über Tourismus“ läuft im Haus der Geschichte Österreich am Heldenplatz die Ausstellung ”Holidays in Austria. Ein Urlaubsland erfindet sich neu“ (14.03.2024– 06.01.2025)\, welche die Entstehung Österreichs als Tourismusnation beleuchtet. Das Az W und hdgö bieten für beide Ausstellungen ein Kombi-Ticket in beide Häuser an.\nKombi-Ticket Az W & hdgö: € 12 \nStart der Kombiführung im Az W um 18:00\, Ende im hdgö\, Neue Burg\, Heldenplatz um 20:00. \nAnmeldung erforderlich: anmeldung@azw.at \nIm Rahmen der Klimabiennale \nRückfragen\nTheresia Lippitsch\n+43-1-522 31 15-15\noffice@azw.at \nFoto:\nAm Grundlsee im steirischen Salzkammergut gibt es noch 26 viehhaltende Betriebe – halb so viele wie Mitte der 1990er-Jahre. Um weitere Schließungen zu verhindern\, wurde 2020 der Landschaftspflegefonds ins Leben gerufen\, der Landwirt*innen finanziell unterstützt.\n© Foto: Franz Steinegger \n
URL:https://www.strawanzerin.at/termin/land-und-leute-ku%cc%88he-und-woelfe/
ATTACH;FMTTYPE=image/jpeg:https://www.strawanzerin.at/wp-content/uploads/2024/05/klein_K5_BP_02_02_Grundlsee.jpg
END:VEVENT
END:VCALENDAR