BEGIN:VCALENDAR
VERSION:2.0
PRODID:-//STRAWANZERIN - ECPv4.9.5//NONSGML v1.0//EN
CALSCALE:GREGORIAN
METHOD:PUBLISH
X-WR-CALNAME:STRAWANZERIN
X-ORIGINAL-URL:https://www.strawanzerin.at
X-WR-CALDESC:Veranstaltungen im STRAWANZERIN
BEGIN:VTIMEZONE
TZID:"Europe/Vienna"
BEGIN:DAYLIGHT
TZOFFSETFROM:+0100
TZOFFSETTO:+0200
TZNAME:CEST
DTSTART:20240331T010000
END:DAYLIGHT
BEGIN:STANDARD
TZOFFSETFROM:+0200
TZOFFSETTO:+0100
TZNAME:CET
DTSTART:20241027T010000
END:STANDARD
END:VTIMEZONE
BEGIN:VEVENT
DTSTART;TZID="Europe/Vienna":20241004T170000
DTEND;TZID="Europe/Vienna":20241004T210000
DTSTAMP:20260420T103047
CREATED:20240805T095345Z
LAST-MODIFIED:20240805T095345Z
UID:101470-1728061200-1728075600@www.strawanzerin.at
SUMMARY:Lauf gegen Femizide
DESCRIPTION:Am Freitag\, den 4. Oktober 2024 ist es wieder soweit! Beim “Lauf gegen Femizide” setzen wir laufend und radelnd ein deutliches Zeichen gegen Gewalt an Frauen.  \n15 Femizide wurden heuer bereits verübt. Fünf davon an einem Tag: Am 23. Februar 2024 wurden in Wien Brigittenau und Landstraße vier Frauen und ein Mädchen von Männern ermordet. Daran möchte der Lauf gegen Femizide erinnern.   \nDeshalb erstreckt sich die ca. 6 Kilometer lange Laufroute vom 20. in den 3. Bezirk.  \nZiel der Aktion ist es\, die Zivilbevölkerung sowie politische Entscheidungsträger*innen zum Handeln zu bewegen. Denn Gewalt ist niemals Privatsache! \nWann: Freitag 4.10. I Treffpunkt ab 17 Uhr I Start ist um 18 Uhr  \nWo: Vom Maria-Restituta-Platz (S+U-Bahn Handelskai\, 1200 Wien) zum Platz der Sozialen Sicherheit (nähe Rochusmarkt\, 1030) \nWer: Offen für alle Geschlechter. Es sind aber insbesondere Männer aufgerufen mitzumachen. \nWie: In unseren StoP-Shirts (bekommt man vor Ort gegen freie Spende) laufen oder radeln wir in gemütlichem Tempo ca. 6 km. Wir warten und geben aufeinander acht. Das Ganze ist kein Wettbewerb. Es geht darum unser Statement auf die Straße zu tragen: Nie wieder Femizid!\nDie Teilnahme ist kostenlos!\nEine Anmeldung ist nicht erforderlich\, erleichtert aber unsere Planung:\noffice@stop-partnergewalt.at \nNach dem StoP-Motto „Was sagen. Was tun“ kann jede*r einen Beitrag gegen geschlechtsspezifische Gewalt leisten. Konkret bedeutet das\, dass man beim Lauf selbst\, bei der Organisation\, der Bewerbung mit Flyern und Plakaten oder beim Rahmenprogramm in Form eines Rede- oder Musikbeitrags mitmachen kann.  \nAb 19 Uhr wird es am Platz der Sozialen Sicherheit (1030) Musik von Dr. MadLane & Alina Antistar (Rap/Hip-Hop) sowie The Morphine Pilgrims (Punk) geben. \nWir freuen uns über Rückmeldungen und jede Form der Unterstützung! Gemeinsam können wir was bewegen! \n
URL:https://www.strawanzerin.at/termin/lauf-gegen-femizide/
LOCATION:Maria-Restituta-Platz\, Maria-Restituta-Platz\, Wien\, Wien\, 1200\, Österreich
CATEGORIES:Musik,Sport
ATTACH;FMTTYPE=image/png:https://www.strawanzerin.at/wp-content/uploads/2024/08/LaufMaennerlauf-Sujets-1.png
ORGANIZER;CN="StoP%20-%20Stadtteile%20ohne%20Partnergewalt":MAILTO:office@stop-partnergewalt.at
END:VEVENT
END:VCALENDAR