BEGIN:VCALENDAR
VERSION:2.0
PRODID:-//STRAWANZERIN - ECPv4.9.5//NONSGML v1.0//EN
CALSCALE:GREGORIAN
METHOD:PUBLISH
X-WR-CALNAME:STRAWANZERIN
X-ORIGINAL-URL:https://www.strawanzerin.at
X-WR-CALDESC:Veranstaltungen im STRAWANZERIN
BEGIN:VTIMEZONE
TZID:"Europe/Vienna"
BEGIN:DAYLIGHT
TZOFFSETFROM:+0100
TZOFFSETTO:+0200
TZNAME:CEST
DTSTART:20170326T010000
END:DAYLIGHT
BEGIN:STANDARD
TZOFFSETFROM:+0200
TZOFFSETTO:+0100
TZNAME:CET
DTSTART:20171029T010000
END:STANDARD
END:VTIMEZONE
BEGIN:VEVENT
DTSTART;TZID="Europe/Vienna":20170316T180000
DTEND;TZID="Europe/Vienna":20170316T210000
DTSTAMP:20260420T144030
CREATED:20170306T150129Z
LAST-MODIFIED:20170308T112812Z
UID:40893-1489687200-1489698000@www.strawanzerin.at
SUMMARY:Lauter Fremde
DESCRIPTION: Buchpräsentation/Diskussion\nmit Livia Klingl \n—Lauter Fremde—\nKremayr & Scheriau \nEin Riss geht durch das Land. Auf der einen Seite stehen jene\, die für mehr Miteinander\, mehr Solidarität\, mehr Offenheit eintreten. Auf der anderen jene\, die zurück möchten in die „gute\, alte Zeit“\, als es noch keine Globalisierung gab\, keine Flüchtlinge und keine Angst vor sozialem Abstieg. Die Bruchlinien gehen quer durch die Familien\, sogar Freundschaften zerbrechen daran.\nWarum ist heute eine aggressionslose Kommunikation darüber kaum mehr möglich? Warum werden Flüchtlinge zum Sündenbock gestempelt für alles\, was schief läuft in diesem Land? In ihrer Analyse greift Livia Klingl die Vorurteile auf\, sortiert sie und zeigt: Die Flüchtlingsfrage ist oft nur eine Ausrede\, um sich mit den wirklichen Problemen nicht beschäftigen zu müssen. \nMit 21 Menschen hat Livia Klingl Interviews zum Thema Fremdheit und Fremdsein geführt. Entstanden sind 21 Porträts\, die zeigen\, welch vielfältiges Mosaik unsere Gesellschaft ist. Unter den Interviewten sind: Muna Duzdar\, Lojze Wieser\, Hannah Lessing\, Nina Kusturica\, Silvana Meixner\, Klaus Oppitz\, Johannes Voggenhuber. \nLivia Klingl\, geboren 1956 in Wien\, mehr als 20 Jahre Kriegs- und Krisenberichterstatterin vom Balkan über Afghanistan bis Irak\, Iran und Libanon\, neun Jahre Leiterin des Außenpolitikressorts im Kurier und Buchautorin. Österreichischer Staatspreis für „publizistische Leistungen im Interesse der Geistigen Landesverteidigung“ im Jahr 2000\, wohnt als passionierte Realistin (Eigendefinition) in Wien Rudolfsheim-Fünfhaus\, dem Bezirk mit der niedrigsten Kaufkraft und dem höchsten Ausländeranteil. \n
URL:https://www.strawanzerin.at/termin/lauter-fremde/
LOCATION:Sozialdemokratische Freiheitskämpfer Hernals\, Kalvarienberggasse 28a\, 2 Stock\, Wien\, wien\, 1170\, Österreich
CATEGORIES:Antifaschismus,Antirassimus,Deutsch,Eintrittspreis,Gratis,Kategorie,Kunst/Kultur,Literatur,Veranstaltungssprache,Wien
ORGANIZER;CN="Freiheitsk%C3%A4mpfer%20%26amp%3B%20Aktive%20AntifaschistInnen%20Hernals":MAILTO:doppermannpetra@gmail.com
END:VEVENT
END:VCALENDAR