BEGIN:VCALENDAR
VERSION:2.0
PRODID:-//STRAWANZERIN - ECPv4.9.5//NONSGML v1.0//EN
CALSCALE:GREGORIAN
METHOD:PUBLISH
X-WR-CALNAME:STRAWANZERIN
X-ORIGINAL-URL:https://www.strawanzerin.at
X-WR-CALDESC:Veranstaltungen im STRAWANZERIN
BEGIN:VTIMEZONE
TZID:"Europe/Helsinki"
BEGIN:DAYLIGHT
TZOFFSETFROM:+0200
TZOFFSETTO:+0300
TZNAME:EEST
DTSTART:20150329T010000
END:DAYLIGHT
BEGIN:STANDARD
TZOFFSETFROM:+0300
TZOFFSETTO:+0200
TZNAME:EET
DTSTART:20151025T010000
END:STANDARD
END:VTIMEZONE
BEGIN:VEVENT
DTSTART;TZID="Europe/Helsinki":20151211T200000
DTEND;TZID="Europe/Helsinki":20151211T230000
DTSTAMP:20260421T102416
CREATED:20151014T214445Z
LAST-MODIFIED:20151019T123025Z
UID:20893-1449864000-1449874800@www.strawanzerin.at
SUMMARY:LEBENDE\, STÜCKE
DESCRIPTION:Poesie & elektronische Musik von VERENA DÜRR \nStimme und Elemente der elektronischen Musik fließen ineinander. Die Kaffeehausliteratin stellt Lebende\, Stücke vor\, welche unter dem Eindruck von Melange und Mokka\, konsequent regelmäßigem Zeitunglesen und dem Charme der Wiener Kaffeehausentourage entstanden sind. Die interdisziplinäre Autorin\, Djane und Hilfsköchin erstreckt ihr literarisches Schaffen in die Bereiche der Spoken Word Poetry\, Performance\, Musik und Video. \nwww.venerasinn.com \nFreie Spende\nReservierung: das.dorf@gmx.at oder Tel. 01-208 26 50 \nLiteratur und Performance im DORF – kuratiert von Eva Geber (Kulturpublizistin\, Mitgründerin der AUFedition 1992)\n5 KÜNSTLERINNEN\, 5 MUSENKÜSSE – Teil 4\nText\, Bild\, Film\, Komposition & Performance\n5 Künstlerinnen und Autorinnen präsentieren an vier Abenden eigene Texte in unterschiedlichen Ausdrucksformen. \n
URL:https://www.strawanzerin.at/termin/lebende-stuecke/
LOCATION:Das Dorf\, Viaduktgasse 2/1\, Wien\, 1030\, Österreich
CATEGORIES:Deutsch,Feminismus,freie Spende,Musik,Wien
ATTACH;FMTTYPE=image/jpeg:https://www.strawanzerin.at/wp-content/uploads/2015/10/foto_venerasinn-web.jpg
GEO:48.2081696;16.3877767
X-APPLE-STRUCTURED-LOCATION;VALUE=URI;X-ADDRESS=Das Dorf Viaduktgasse 2/1 Wien 1030 Österreich;X-APPLE-RADIUS=500;X-TITLE=Viaduktgasse 2/1:geo:16.3877767,48.2081696
END:VEVENT
END:VCALENDAR