BEGIN:VCALENDAR
VERSION:2.0
PRODID:-//STRAWANZERIN - ECPv4.9.5//NONSGML v1.0//EN
CALSCALE:GREGORIAN
METHOD:PUBLISH
X-WR-CALNAME:STRAWANZERIN
X-ORIGINAL-URL:https://www.strawanzerin.at
X-WR-CALDESC:Veranstaltungen im STRAWANZERIN
BEGIN:VTIMEZONE
TZID:"Europe/Vienna"
BEGIN:DAYLIGHT
TZOFFSETFROM:+0100
TZOFFSETTO:+0200
TZNAME:CEST
DTSTART:20250330T010000
END:DAYLIGHT
BEGIN:STANDARD
TZOFFSETFROM:+0200
TZOFFSETTO:+0100
TZNAME:CET
DTSTART:20251026T010000
END:STANDARD
END:VTIMEZONE
BEGIN:VEVENT
DTSTART;TZID="Europe/Vienna":20251129T193000
DTEND;TZID="Europe/Vienna":20251129T213000
DTSTAMP:20260423T135820
CREATED:20250821T135117Z
LAST-MODIFIED:20250821T135117Z
UID:109010-1764444600-1764451800@www.strawanzerin.at
SUMMARY:Leichtigkeit mit LEELAH SKY: Singer-Songwriterin präsentiert neue Single »easier«
DESCRIPTION:Ist Lieben einfach? Ja\, behauptet die Sängerin und Pianistin LEELAH SKY\, vor allem je öfter man es macht! In ihrem neuen Song »easier« beschreibt die Wiener Musikerin\, wie man im Laufe der Zeit resilienter und geduldiger werden kann\, wenn Liebe und die dazugehörige Beziehung nicht immer super einfach sind. Aber die Zeit erlaubt es\, trotz dieser Ambivalenz im ‚Flow‘ zu bleiben. Viel Stimme\, weiche Gospelelemente und ein eingängiger Refrain machen »easier« – produziert von Christian Kolonovits – zum perfekten Indian Summer Sound voller sunny vibes für mehr Gelassenheit und Happiness. \n»easier« kündigt als Vorab-Single das 2. Studioalbum »Love Over Time« an\, das am 24. Oktober 2025 bei homebase records erscheint. \nBild: Christine Kisielewsky alias LEELAH SKY präsentiert neue Single »easier«\, Foto/© Iris Camaa \n
URL:https://www.strawanzerin.at/termin/leichtigkeit-mit-leelah-sky-singer-songwriterin-praesentiert-neue-single-easier/
LOCATION:HOB i RAUM\, Hanuschgasse 1\, Bad Vöslau\, Niederösterreich\, 2540
CATEGORIES:freie Spende,Musik
ATTACH;FMTTYPE=image/jpeg:https://www.strawanzerin.at/wp-content/uploads/2025/08/Leelah-Sky-easier.jpg
GEO:47.9686941;16.2205195
X-APPLE-STRUCTURED-LOCATION;VALUE=URI;X-ADDRESS=HOB i RAUM Hanuschgasse 1 Bad Vöslau Niederösterreich 2540;X-APPLE-RADIUS=500;X-TITLE=Hanuschgasse 1:geo:16.2205195,47.9686941
END:VEVENT
END:VCALENDAR