BEGIN:VCALENDAR
VERSION:2.0
PRODID:-//STRAWANZERIN - ECPv4.9.5//NONSGML v1.0//EN
CALSCALE:GREGORIAN
METHOD:PUBLISH
X-WR-CALNAME:STRAWANZERIN
X-ORIGINAL-URL:https://www.strawanzerin.at
X-WR-CALDESC:Veranstaltungen im STRAWANZERIN
BEGIN:VTIMEZONE
TZID:"Europe/Helsinki"
BEGIN:DAYLIGHT
TZOFFSETFROM:+0200
TZOFFSETTO:+0300
TZNAME:EEST
DTSTART:20150329T010000
END:DAYLIGHT
BEGIN:STANDARD
TZOFFSETFROM:+0300
TZOFFSETTO:+0200
TZNAME:EET
DTSTART:20151025T010000
END:STANDARD
END:VTIMEZONE
BEGIN:VEVENT
DTSTART;TZID="Europe/Helsinki":20150121T093000
DTEND;TZID="Europe/Helsinki":20150121T123000
DTSTAMP:20260423T155604
CREATED:20150120T113533Z
LAST-MODIFIED:20150120T113533Z
UID:10779-1421832600-1421843400@www.strawanzerin.at
SUMMARY:Lerne deinen Computer kennen
DESCRIPTION:Was sind die Unterschiede zwischen TabletPC und Laptop? Wozu brauche ich eine Grafikkarte? Wie viel Arbeitsspeicher benötige ich? \nDer erste Workshop-Termin widmet sich den Grundlagen der Computersprache. Die Themen für die darauffolgenden Termine werden von der Gruppe gewählt. \nAnmeldung unter(e-Mail und/oder Telefon): workshops@recyclingkosmos.at\nEsther Weinberger:\n0650 974 99 59 \nDatum Uhrzeit\n21.01.2015 09:30-12:30 \n28.01.2015 09:30-12:30 \n04.02.2015 15:00-18:00 \n
URL:https://www.strawanzerin.at/termin/lerne-deinen-computer-kennen/2015-01-21/
LOCATION:Recycling Kosmos Zentrale\, Ottakringer Straße 63\, Wien\, Wien\, 1160\, Österreich
CATEGORIES:ab 7,Deutsch,Sonstiges,Wien,Workshop
ATTACH;FMTTYPE=image/jpeg:https://www.strawanzerin.at/wp-content/uploads/2015/01/Computer.jpg
ORGANIZER;CN="Recycling%20Kosmos":MAILTO:workshops@recyclingkosmos.at
GEO:48.2137812;16.3298013
X-APPLE-STRUCTURED-LOCATION;VALUE=URI;X-ADDRESS=Recycling Kosmos Zentrale Ottakringer Straße 63 Wien Wien 1160 Österreich;X-APPLE-RADIUS=500;X-TITLE=Ottakringer Straße 63:geo:16.3298013,48.2137812
END:VEVENT
END:VCALENDAR