BEGIN:VCALENDAR
VERSION:2.0
PRODID:-//STRAWANZERIN - ECPv4.9.5//NONSGML v1.0//EN
CALSCALE:GREGORIAN
METHOD:PUBLISH
X-WR-CALNAME:STRAWANZERIN
X-ORIGINAL-URL:https://www.strawanzerin.at
X-WR-CALDESC:Veranstaltungen im STRAWANZERIN
BEGIN:VTIMEZONE
TZID:"Europe/Paris"
BEGIN:DAYLIGHT
TZOFFSETFROM:+0100
TZOFFSETTO:+0200
TZNAME:CEST
DTSTART:20150329T010000
END:DAYLIGHT
BEGIN:STANDARD
TZOFFSETFROM:+0200
TZOFFSETTO:+0100
TZNAME:CET
DTSTART:20151025T010000
END:STANDARD
END:VTIMEZONE
BEGIN:VEVENT
DTSTART;TZID="Europe/Paris":20150622T190000
DTEND;TZID="Europe/Paris":20150622T210000
DTSTAMP:20260420T224356
CREATED:20150520T132911Z
LAST-MODIFIED:20150602T140810Z
UID:14989-1434999600-1435006800@www.strawanzerin.at
SUMMARY:Lese-Cafe Spezial: Österreich ist frei!?
DESCRIPTION:Gemeinsam mit dem Verleger Gerald Grassl stellen wir die brandneue Anthologie aus der Ediiton Tarantel vor; wie immer bei Kaffee\, Tee und Plauderei. \n
URL:https://www.strawanzerin.at/termin/lese-cafe-spezial-oesterreich-ist-frei/
LOCATION:Österreich
CATEGORIES:Deutsch,Gratis,Kunst/Kultur,Literatur,Wien
ORGANIZER;CN="Kurt%20Kostron":MAILTO:k.kostron@stuwerbuch.at
END:VEVENT
END:VCALENDAR