BEGIN:VCALENDAR
VERSION:2.0
PRODID:-//STRAWANZERIN - ECPv4.9.5//NONSGML v1.0//EN
CALSCALE:GREGORIAN
METHOD:PUBLISH
X-WR-CALNAME:STRAWANZERIN
X-ORIGINAL-URL:https://www.strawanzerin.at
X-WR-CALDESC:Veranstaltungen im STRAWANZERIN
BEGIN:VTIMEZONE
TZID:"Europe/Vienna"
BEGIN:DAYLIGHT
TZOFFSETFROM:+0100
TZOFFSETTO:+0200
TZNAME:CEST
DTSTART:20180325T010000
END:DAYLIGHT
BEGIN:STANDARD
TZOFFSETFROM:+0200
TZOFFSETTO:+0100
TZNAME:CET
DTSTART:20181028T010000
END:STANDARD
END:VTIMEZONE
BEGIN:VEVENT
DTSTART;TZID="Europe/Vienna":20180830T090000
DTEND;TZID="Europe/Vienna":20180902T210000
DTSTAMP:20260421T191032
CREATED:20180821T083052Z
LAST-MODIFIED:20180821T083248Z
UID:58401-1535619600-1535922000@www.strawanzerin.at
SUMMARY:Lesen unter freiem Himmel
DESCRIPTION:Von 30. August bis 2. September 2018 kann am Mozartplatz wieder nach Herzenslust geschmökert werden. Beim alljährlichen StadtLesen gibt es 3000 Bücher zur Auswahl\, gemütliche Lesesitzmöbel und viel freien Himmel bei freiem Eintritt.\nDabei ist das große Lesewohnzimmer von 9.00 Uhr bis zum Einbruch der Dunkelheit für alle Bücherwürmer geöffnet. Am Sonntag steht dann größtenteils ausgewählte Kinder- und Jugendliteratur in den Regalen. Und von 14.00 bis 16.00 Uhr liest die Vorlese-Oma Annemarie vom Spielzeugmuseum spannenden Geschichten vor. \n
URL:https://www.strawanzerin.at/termin/lesen-unter-freiem-himmel/
END:VEVENT
END:VCALENDAR