BEGIN:VCALENDAR
VERSION:2.0
PRODID:-//STRAWANZERIN - ECPv4.9.5//NONSGML v1.0//EN
CALSCALE:GREGORIAN
METHOD:PUBLISH
X-WR-CALNAME:STRAWANZERIN
X-ORIGINAL-URL:https://www.strawanzerin.at
X-WR-CALDESC:Veranstaltungen im STRAWANZERIN
BEGIN:VTIMEZONE
TZID:"Europe/Paris"
BEGIN:DAYLIGHT
TZOFFSETFROM:+0100
TZOFFSETTO:+0200
TZNAME:CEST
DTSTART:20150329T010000
END:DAYLIGHT
BEGIN:STANDARD
TZOFFSETFROM:+0200
TZOFFSETTO:+0100
TZNAME:CET
DTSTART:20151025T010000
END:STANDARD
END:VTIMEZONE
BEGIN:VEVENT
DTSTART;TZID="Europe/Paris":20150904T193000
DTEND;TZID="Europe/Paris":20150904T210000
DTSTAMP:20260420T161538
CREATED:20150625T100438Z
LAST-MODIFIED:20150629T105544Z
UID:17938-1441395000-1441400400@www.strawanzerin.at
SUMMARY:Lesung Lily Axster im Rahmen der DINN_A*
DESCRIPTION:Räume sind barrierefrei zugänglich \n
URL:https://www.strawanzerin.at/termin/lesung-lily-axster-im-rahmen-der-dinn_a/
LOCATION:ChickLit\, Kleeblattgasse 7\, Wien\, Wien\, 1010\, Österreich
CATEGORIES:Deutsch,freie Spende,Kunst/Kultur,Literatur,Wien
ATTACH;FMTTYPE=:
ORGANIZER;CN="Orga%20Team%20Nachwuchskonferenz":MAILTO:dinn_a@gmx.at
GEO:48.2107551;16.3701233
X-APPLE-STRUCTURED-LOCATION;VALUE=URI;X-ADDRESS=ChickLit Kleeblattgasse 7 Wien Wien 1010 Österreich;X-APPLE-RADIUS=500;X-TITLE=Kleeblattgasse 7:geo:16.3701233,48.2107551
END:VEVENT
END:VCALENDAR