BEGIN:VCALENDAR
VERSION:2.0
PRODID:-//STRAWANZERIN - ECPv4.9.5//NONSGML v1.0//EN
CALSCALE:GREGORIAN
METHOD:PUBLISH
X-WR-CALNAME:STRAWANZERIN
X-ORIGINAL-URL:https://www.strawanzerin.at
X-WR-CALDESC:Veranstaltungen im STRAWANZERIN
BEGIN:VTIMEZONE
TZID:"Europe/Helsinki"
BEGIN:DAYLIGHT
TZOFFSETFROM:+0200
TZOFFSETTO:+0300
TZNAME:EEST
DTSTART:20150329T010000
END:DAYLIGHT
BEGIN:STANDARD
TZOFFSETFROM:+0300
TZOFFSETTO:+0200
TZNAME:EET
DTSTART:20151025T010000
END:STANDARD
END:VTIMEZONE
BEGIN:VEVENT
DTSTART;TZID="Europe/Helsinki":20150409T190000
DTEND;TZID="Europe/Helsinki":20150409T210000
DTSTAMP:20260423T212110
CREATED:20150327T142732Z
LAST-MODIFIED:20150413T161805Z
UID:12733-1428606000-1428613200@www.strawanzerin.at
SUMMARY:Lesung mit Marc Canal & Max Horejes: "unglaublich glücklich"
DESCRIPTION:Die beiden Autoren\, bekannt durch ihre Arbeit für „Willkommen Österreich“\, erzählen in ihrer Tagebuch-Groteske aus der Pauschalurlaub-Hölle:\nzwei Männer am Tiefpunkt ihrer Schaffenskraft.\nMarc und Max stellen sich einer Herausforderung: In nur zwei Wochen sollen sie ein Auftragswerk mit dem Titel „Unglaublich glücklich“ schreiben.\nMit dem Vorschuss buchen sie vierzehn Tage in einem bulgarischen All-inclusive-Club. Sogleich wird mit der konzentrierten Arbeit am Buch begonnen. Doch das reichhaltige Animationsprogramm\, kilometerlange Buffets und Cocktails rund um die Uhr sind eher Ablenkung denn Inspiration. Schnell stürzen sich Marc und Max in hoffnunglose Liebesabenteuer\, ein deutsches Urlauberpaar bringt ihre seelischen Abgründe zutage und Barkeeper Dimi findet in den beiden willkommene Opfer für seine zwielichtigen Pläne.\nDas Buchprojekt scheint ihnen zusehends aus den Händen zu gleiten. Mit jedem Tag werden die Schreibversuche dürftiger und die süßen Versuchungen im Club zeitraubender. Der letzte Rettungsanker scheint ein geheimnisvoller Koffer zu sein … \nWir freuen uns auf einen unterhaltsamen Abend! \n
URL:https://www.strawanzerin.at/termin/lesung-mit-marc-canal-max-horejes-unglaublich-gluecklich/
LOCATION:Österreich
CATEGORIES:Deutsch,Gratis,Kunst/Kultur,Literatur,Wien
ATTACH;FMTTYPE=:
END:VEVENT
END:VCALENDAR