BEGIN:VCALENDAR
VERSION:2.0
PRODID:-//STRAWANZERIN - ECPv4.9.5//NONSGML v1.0//EN
CALSCALE:GREGORIAN
METHOD:PUBLISH
X-WR-CALNAME:STRAWANZERIN
X-ORIGINAL-URL:https://www.strawanzerin.at
X-WR-CALDESC:Veranstaltungen im STRAWANZERIN
BEGIN:VTIMEZONE
TZID:"Europe/Vienna"
BEGIN:DAYLIGHT
TZOFFSETFROM:+0100
TZOFFSETTO:+0200
TZNAME:CEST
DTSTART:20240331T010000
END:DAYLIGHT
BEGIN:STANDARD
TZOFFSETFROM:+0200
TZOFFSETTO:+0100
TZNAME:CET
DTSTART:20241027T010000
END:STANDARD
END:VTIMEZONE
BEGIN:VEVENT
DTSTART;TZID="Europe/Vienna":20241204T190000
DTEND;TZID="Europe/Vienna":20241204T203000
DTSTAMP:20260425T140605
CREATED:20241122T122603Z
LAST-MODIFIED:20241122T122603Z
UID:104765-1733338800-1733344200@www.strawanzerin.at
SUMMARY:Lesung mit Musik: „Nikolo\, Krampus und allerlei Weihnachtliches“
DESCRIPTION:Eine Adventlesung? Eine Weihnachtslesung? Nicht ganz. Zwar spielen Nikolo und Krampus eine zentrale Rolle\, doch benehmen sich die beiden nicht so\, wie man es erwarten würde. \nBetrunkene Nikolos\, verprügelte Krampusse\nVielleicht stellt man sich die Weihnachtszeit vor über 100 Jahren als besinnlicher und stimmungsvoller vor\, als wir sie heute in unserer hektischen Zeit erleben. Doch die damaligen Zeitungen liefern dafür keine Belege – stattdessen berichten sie von betrunkenen Nikolos\, verprügelten Krampussen und einem Christkindlmarkt\, der in seiner baufälligen Erscheinung nicht mehr so recht in die „moderne“ Zeit passte. \nWeihnachten\, das Fest der Liebe\nAbgerundet wird die Lesung mit einem Blick in die damaligen Single-Börsen\, denn Weihnachten gilt bekanntlich auch als das „Fest der Liebe“. Wer weiß\, vielleicht fand so mancher ein fesches Christkindl oder einen schmucken Nikolo unter dem Weihnachtsbaum… \nAm Klavier: Katharina Litschauer \nEintritt: Spende\nBeginn: 19:00\, Einlass ab 18:15\nReservierung: info@stefanfranke.at \n
URL:https://www.strawanzerin.at/termin/lesung-mit-musik-nikolo-krampus-und-allerlei-weihnachtliches/
LOCATION:Cafe Korb\, Brandstätte 9\, Wien\, Wien\, 1010\, Österreich
CATEGORIES:Deutsch,freie Spende,Kunst/Kultur,Literatur,Wien
ATTACH;FMTTYPE=image/jpeg:https://www.strawanzerin.at/wp-content/uploads/2024/11/stefan-franke__2019-4000px-max3-scaled.jpg
ORGANIZER;CN="Stefan%20Franke":MAILTO:info@wien-erregt.at
END:VEVENT
END:VCALENDAR