BEGIN:VCALENDAR
VERSION:2.0
PRODID:-//STRAWANZERIN - ECPv4.9.5//NONSGML v1.0//EN
CALSCALE:GREGORIAN
METHOD:PUBLISH
X-WR-CALNAME:STRAWANZERIN
X-ORIGINAL-URL:https://www.strawanzerin.at
X-WR-CALDESC:Veranstaltungen im STRAWANZERIN
BEGIN:VTIMEZONE
TZID:"Europe/Vienna"
BEGIN:DAYLIGHT
TZOFFSETFROM:+0100
TZOFFSETTO:+0200
TZNAME:CEST
DTSTART:20200329T010000
END:DAYLIGHT
BEGIN:STANDARD
TZOFFSETFROM:+0200
TZOFFSETTO:+0100
TZNAME:CET
DTSTART:20201025T010000
END:STANDARD
END:VTIMEZONE
BEGIN:VEVENT
DTSTART;TZID="Europe/Vienna":20200929T183000
DTEND;TZID="Europe/Vienna":20200929T203000
DTSTAMP:20260422T015625
CREATED:20200917T104538Z
LAST-MODIFIED:20200925T081615Z
UID:75590-1601404200-1601411400@www.strawanzerin.at
SUMMARY:Lesung: Peter Veran - Plädoyer eines Märtyrers
DESCRIPTION:86 Jahre nach dem Februar-Aufstand 1934 gegen die austrofaschistische Diktatur wird der damalige Bundeskanzler Engelbert Dollfuß aus seinem Grab in Wien-Hietzing exhumiert und vor Gericht gestellt. In diesem Rahmen spielt Peter Verans literarische Groteske\, in der sich Engelbert Dollfuß vor der Geschichte rechtfertigen muss. Die Anklagepunkte sind umfassend: Vielfacher Mord\, Folter\, Hochverrat und Landfriedensbruch. Darauf muss der im Juli 1934 von Nationalsozialisten ermordete und später zum Märtyrer stilisierte Ex-Diktator eine Antwort finden. \nDas Buch erschien 2020 im Promedia-Verlag: https://mediashop.at/buecher/plaedoyer-eines-maertyrers/ \n
URL:https://www.strawanzerin.at/termin/lesung-peter-veran-plaedoyer-eines-maertyrers/
LOCATION:Republikanischer Club\, Rhockgasse 1\, Wien\, 1010\, Österreich
CATEGORIES:Deutsch,Gratis,Kunst/Kultur,Literatur,Wien
ATTACH;FMTTYPE=image/jpeg:https://www.strawanzerin.at/wp-content/uploads/2020/09/veran_maertyrer_471.jpg
ORGANIZER;CN="Promedia%20Verlag":MAILTO:promedia@mediashop.at
END:VEVENT
END:VCALENDAR