BEGIN:VCALENDAR
VERSION:2.0
PRODID:-//STRAWANZERIN - ECPv4.9.5//NONSGML v1.0//EN
CALSCALE:GREGORIAN
METHOD:PUBLISH
X-WR-CALNAME:STRAWANZERIN
X-ORIGINAL-URL:https://www.strawanzerin.at
X-WR-CALDESC:Veranstaltungen im STRAWANZERIN
BEGIN:VTIMEZONE
TZID:"Europe/Vienna"
BEGIN:DAYLIGHT
TZOFFSETFROM:+0100
TZOFFSETTO:+0200
TZNAME:CEST
DTSTART:20250330T010000
END:DAYLIGHT
BEGIN:STANDARD
TZOFFSETFROM:+0200
TZOFFSETTO:+0100
TZNAME:CET
DTSTART:20251026T010000
END:STANDARD
END:VTIMEZONE
BEGIN:VEVENT
DTSTART;TZID="Europe/Vienna":20250312T080000
DTEND;TZID="Europe/Vienna":20250312T193000
DTSTAMP:20260421T191217
CREATED:20250220T130139Z
LAST-MODIFIED:20250220T130139Z
UID:106161-1741766400-1741807800@www.strawanzerin.at
SUMMARY:Lesung Uwe Mauch  - „Brilliante Brigittenau“/Musikalische Begleitung: Double Bass Extended (Lina Neuner)
DESCRIPTION:Der Kurier & Augustin-Journalist bzw. Autor Uwe Mauch liest über Orte und Menschen des 20. Bezirks. \nMusikalische Begleitung: Double Bass Extended (Lina Neuner) \nDiese Lesung ist Start der neuen Lesereihe „Stimmen aus der Brigittenau“ \n„Stimmen aus der Brigittenau“ ist eine neue Serie von Lesungen\, die sich mit der Vergangenheit\, Gegenwart und Zukunft des zwanzigsten Wiener Gemeindebezirks auseinandersetzt. Bei der Planung des Programms wurde großer Wert darauf gelegt\, dass sowohl von den Texten als auch von der musikalischen Begleitung her AutorInnen und MusikerInnen aus dem 20. Bezirk zu Wort kommen. \n
URL:https://www.strawanzerin.at/termin/lesung-uwe-mauch-brilliante-brigittenau-musikalische-begleitung-double-bass-extended-lina-neuner/
LOCATION:kulturcafe henriette\, Wallensteinstr. 32\, 1200 Wien\, Wien\, 1020\, Österreich
CATEGORIES:freie Spende,Literatur,Musik,Sonstiges,Wien
ATTACH;FMTTYPE=image/jpeg:https://www.strawanzerin.at/wp-content/uploads/2025/02/Uwe-Mauch-scaled.jpg
ORGANIZER;CN="Little%20Dogtown":MAILTO:biograph71@hotmail.com
END:VEVENT
END:VCALENDAR