BEGIN:VCALENDAR
VERSION:2.0
PRODID:-//STRAWANZERIN - ECPv4.9.5//NONSGML v1.0//EN
CALSCALE:GREGORIAN
METHOD:PUBLISH
X-WR-CALNAME:STRAWANZERIN
X-ORIGINAL-URL:https://www.strawanzerin.at
X-WR-CALDESC:Veranstaltungen im STRAWANZERIN
BEGIN:VTIMEZONE
TZID:"Europe/Vienna"
BEGIN:DAYLIGHT
TZOFFSETFROM:+0100
TZOFFSETTO:+0200
TZNAME:CEST
DTSTART:20180325T010000
END:DAYLIGHT
BEGIN:STANDARD
TZOFFSETFROM:+0200
TZOFFSETTO:+0100
TZNAME:CET
DTSTART:20181028T010000
END:STANDARD
END:VTIMEZONE
BEGIN:VEVENT
DTSTART;TZID="Europe/Vienna":20181126T190000
DTEND;TZID="Europe/Vienna":20181126T190000
DTSTAMP:20260420T055339
CREATED:20181119T103919Z
LAST-MODIFIED:20181122T122055Z
UID:60877-1543258800-1543258800@www.strawanzerin.at
SUMMARY:Lesung von Marlene Streeruwitz
DESCRIPTION:Was heißt demokratisch sprechen. Demokratisch lesen. Demokratisch leben. Welche Voraussetzungen braucht es\, sich wenigstens auf den Weg dahin zu machen. Und was hat das alles mit dem Geschlecht zu tun. Ist Feminismus eher ein Schimpfwort oder die Voraussetzung für Demokratisches. Wer hat Schuld an solchen Verwirrungen und was oder wer kann helfen. Und wenn die Welt nun untergeht\, soll man oder frau sich überhaupt noch mit Demokratie beschäftigen oder doch lieber nach Neuseeland auswandern und sich in einer Erdhöhle verstecken. Und was hat das alles außerdem mit Literatur zu tun. \nMit anschließender Diskussion. Moderation: Birge Krondorfer \nEine Kooperation von ICH.DU.WIR.SEESTADT Nachbarschaftsbudget mit der Buchhandlung Seeseiten und der Frauenhetz\nDie Veranstaltung ist für alle Interessierten offen. \n
URL:https://www.strawanzerin.at/termin/lesung-von-marlene-streeruwitz/
LOCATION:Yella Yella!\, Maria-Tusch-Straße 2\, Wien\, 1220\, Österreich
CATEGORIES:Literatur
ORGANIZER;CN="Frauenbildungsst%C3%A4tte%20Frauenhetz":MAILTO:pr@frauenhetz.at
END:VEVENT
END:VCALENDAR