BEGIN:VCALENDAR
VERSION:2.0
PRODID:-//STRAWANZERIN - ECPv4.9.5//NONSGML v1.0//EN
CALSCALE:GREGORIAN
METHOD:PUBLISH
X-WR-CALNAME:STRAWANZERIN
X-ORIGINAL-URL:https://www.strawanzerin.at
X-WR-CALDESC:Veranstaltungen im STRAWANZERIN
BEGIN:VTIMEZONE
TZID:"Europe/Vienna"
BEGIN:DAYLIGHT
TZOFFSETFROM:+0100
TZOFFSETTO:+0200
TZNAME:CEST
DTSTART:20180325T010000
END:DAYLIGHT
BEGIN:STANDARD
TZOFFSETFROM:+0200
TZOFFSETTO:+0100
TZNAME:CET
DTSTART:20181028T010000
END:STANDARD
END:VTIMEZONE
BEGIN:VEVENT
DTSTART;TZID="Europe/Vienna":20180606T190000
DTEND;TZID="Europe/Vienna":20180606T210000
DTSTAMP:20260420T202618
CREATED:20180605T112009Z
LAST-MODIFIED:20180606T070953Z
UID:56750-1528311600-1528318800@www.strawanzerin.at
SUMMARY:Lesung "Zündende Funken - Wiener Feministinnen der 70er Jahre
DESCRIPTION:Zündende Funken – Wiener Feministinnen der 70er Jahre“\nLesung mit Heldis Stepanik\, Eva Dité und Erna Dittelbach\nDie Frauenbewegung der 70er Jahre war alles andere als machtlos: Sie konnte in Österreich Initiativen setzen und provozieren und kommunizierte international mit frauenbewegten Gruppen. Sie war nicht zu überhören\, zu übersehen und somit auch nicht zu übergehen. Schließlich lieferte sie einen wesentlichen Beitrag zur Strafrechts- und Familienrechtsreform. Das Buch „Zündende Funken – Wiener Feministinnen der 70er Jahre“\, herausgegeben vom Frauenkollektiv RitClique\, erschienen im Löcker Verlag Wien\, lässt auf essayistische Weise\, oft stark autobiografisch\, diese wichtige Aufbruchsphase lebendig werden. Die Beiträge thematisieren prekäre Arbeitsverhältnisse\, Arbeitslosigkeit\, Armut\, Überforderung durch Berufstätigkeit\, Haushalt\, Kinder- und Altenbetreuung und vielfältige Benachteiligungen. Eine Lesung mit anschließender Reflexion was die Frauenbewegung der 70er Jahre bewegt und erreicht hat\, sowie einem Ausblick auf Situation und Aktivitäten zukünftiger feministischer Generationen.\nModeration: Edith Ertl-Hofinger\nOrt: Frauenbildungsstätte Frauenhetz\, Untere Weißgerberstraße 41\, 1030 Wien\nSnacks und Getränke werden gereicht\nEintritt frei\, Spenden willkommen\nEine Veranstaltung für Frauen \n
URL:https://www.strawanzerin.at/termin/lesung-zuendende-funken-wiener-feministinnen-der-70er-jahre/
LOCATION:Frauenbildungsstätte Frauenhetz\, Untere Weißgerberstraße 41\, Wien\, Wien\, 1030\, Österreich
CATEGORIES:Literatur
ATTACH;FMTTYPE=image/jpeg:https://www.strawanzerin.at/wp-content/uploads/2018/06/Zündende-Funken-1.jpg
GEO:48.2084854;16.3946163
X-APPLE-STRUCTURED-LOCATION;VALUE=URI;X-ADDRESS=Frauenbildungsstätte Frauenhetz Untere Weißgerberstraße 41 Wien Wien 1030 Österreich;X-APPLE-RADIUS=500;X-TITLE=Untere Weißgerberstraße 41:geo:16.3946163,48.2084854
END:VEVENT
END:VCALENDAR