BEGIN:VCALENDAR
VERSION:2.0
PRODID:-//STRAWANZERIN - ECPv4.9.5//NONSGML v1.0//EN
CALSCALE:GREGORIAN
METHOD:PUBLISH
X-WR-CALNAME:STRAWANZERIN
X-ORIGINAL-URL:https://www.strawanzerin.at
X-WR-CALDESC:Veranstaltungen im STRAWANZERIN
BEGIN:VTIMEZONE
TZID:"Europe/Vienna"
BEGIN:DAYLIGHT
TZOFFSETFROM:+0100
TZOFFSETTO:+0200
TZNAME:CEST
DTSTART:20210328T010000
END:DAYLIGHT
BEGIN:STANDARD
TZOFFSETFROM:+0200
TZOFFSETTO:+0100
TZNAME:CET
DTSTART:20211031T010000
END:STANDARD
END:VTIMEZONE
BEGIN:VEVENT
DTSTART;TZID="Europe/Vienna":20210315T080000
DTEND;TZID="Europe/Vienna":20210630T170000
DTSTAMP:20260421T134941
CREATED:20210322T132312Z
LAST-MODIFIED:20210407T074557Z
UID:76610-1615795200-1625072400@www.strawanzerin.at
SUMMARY:Let's talk Food
DESCRIPTION:Let’s talk Food! Margareta Klose & Nourhan Maayouf  \nFotoinstallation und Sitzdonuts am Volkertplatz und bei philomena+ mit Workshop-Programm \n15/03 – 30/06/2021 \nkuratiert von Aline Lenzhofer \nGemüsegartenfest: Freitag\, 16/04/2021\, 19 Uhr im philomena+ Vorgarten \nPräsentationsorte: philomena+ und Volkertplatz\, 1020 Wien \nGefüllte Melanzani\, eingelegte Gurken\, Simits und Donuts finden sich in ungewöhnlicher Form am Volkertplatz ein. Die Fotoserie „I am stuffed“ irritiert selbst Veggie-Fans und ringförmige Sitzskulpturen laden zu „dialogs on donuts“. Mit ihrer künstlerischen Intervention am Volkertplatz und im philomena+ Vorgarten zeigen die Künstlerinnen Nourhan Maayouf und Margareta Klose\, dass das Kochen durchaus ein kollektiver Akt ist und befeuern mit einem regen Workshop-Programm in Kooperation mit dem Verein piramidops den Rezeptaustausch. Ausgehend von der Essenszubereitung und -konservierung kommen hier Themen zu Genderrollen\, Erinnerungen an anderswo geläufige Zutaten und die Migration von Gerichten zur Sprache. \nBildcredits : Margareta Klose\, und Nourhan Maayouf\, „Let’s talk Food!“\, 2021 \n
URL:https://www.strawanzerin.at/termin/lets-talk-food/
LOCATION:philomena+ Kunst- und Architekturplattform\, Heinestraße 40\, 1020 Wien\, Wien\, 1020\, Österreich
CATEGORIES:Kunst/Kultur
ATTACH;FMTTYPE=image/png:https://www.strawanzerin.at/wp-content/uploads/2021/03/Lets-talk-Food_Ankuendigungsbild.png
ORGANIZER;CN="philomena%2B%20Kunst-%20und%20Architekturplattfrom":MAILTO:info@philomena.plus
GEO:48.2183087;16.3894548
X-APPLE-STRUCTURED-LOCATION;VALUE=URI;X-ADDRESS=philomena+ Kunst- und Architekturplattform Heinestraße 40 1020 Wien Wien 1020 Österreich;X-APPLE-RADIUS=500;X-TITLE=Heinestraße 40:geo:16.3894548,48.2183087
END:VEVENT
END:VCALENDAR