BEGIN:VCALENDAR
VERSION:2.0
PRODID:-//STRAWANZERIN - ECPv4.9.5//NONSGML v1.0//EN
CALSCALE:GREGORIAN
METHOD:PUBLISH
X-WR-CALNAME:STRAWANZERIN
X-ORIGINAL-URL:https://www.strawanzerin.at
X-WR-CALDESC:Veranstaltungen im STRAWANZERIN
BEGIN:VTIMEZONE
TZID:"Europe/Vienna"
BEGIN:DAYLIGHT
TZOFFSETFROM:+0100
TZOFFSETTO:+0200
TZNAME:CEST
DTSTART:20210328T010000
END:DAYLIGHT
BEGIN:STANDARD
TZOFFSETFROM:+0200
TZOFFSETTO:+0100
TZNAME:CET
DTSTART:20211031T010000
END:STANDARD
END:VTIMEZONE
BEGIN:VEVENT
DTSTART;TZID="Europe/Vienna":20211106T180000
DTEND;TZID="Europe/Vienna":20211106T220000
DTSTAMP:20260422T140308
CREATED:20211029T101419Z
LAST-MODIFIED:20211103T081000Z
UID:81463-1636221600-1636236000@www.strawanzerin.at
SUMMARY:Lichtung
DESCRIPTION:2008 wurde das Denkmal in Form einer begehbaren Installation von Hans Buchwald nach einer Idee von Wolfgang Georg Fischer errichtet: Eine dysfunktionale Tischrunde aus Stahl umschließt einen Blauglockenbaum. Namen von 72 Personen sind in alphabetischer Reihenfolge einer gläsernen Stele eingeschrieben. Sie versteht sich als offene Liste und schließt mit einem Apell. Ausdrücklich soll auch jener gedacht werden „deren Namen wir nicht kennen\, sowie aller anderen verfolgten Angehörigen der Universität Wien“. \nMehr als ein Drittel der hier Erinnerten sind Frauen. In Anbetracht der unausgeglichenen Geschlechterverhältnisse an Universitäten dieser Zeit ein hoher Prozentsatz. Die Lichtkunstintervention begleitet die 21te internationale Tagung des Verbandes österreichischer Kunsthistorikerinnen und Kunsthistoriker zum Thema „Great Female Art Historians“. \n
URL:https://www.strawanzerin.at/termin/lichtung/
LOCATION:Campus\, Hof 9 vor dem Institut für Kunstgeschichte\, Garnisongasse 13\, Wien\, Wien\, 1090\, Österreich
CATEGORIES:Bildung,Wien
ATTACH;FMTTYPE=image/jpeg:https://www.strawanzerin.at/wp-content/uploads/2021/10/192e9f9beb.jpeg
ORGANIZER;CN="Verband%20der%20%C3%B6sterreichischen%20Kunsthistorikerinnen%20und%20Kunsthistoriker%20in%20Kooperation%20mit%20dem%20Institut%20f%C3%BCr%20Kunstgeschichte%20der%20Universit%C3%A4t%20Wien":MAILTO:heidrun.rosenberg@univie.ac.at
END:VEVENT
END:VCALENDAR