BEGIN:VCALENDAR
VERSION:2.0
PRODID:-//STRAWANZERIN - ECPv4.9.5//NONSGML v1.0//EN
CALSCALE:GREGORIAN
METHOD:PUBLISH
X-WR-CALNAME:STRAWANZERIN
X-ORIGINAL-URL:https://www.strawanzerin.at
X-WR-CALDESC:Veranstaltungen im STRAWANZERIN
BEGIN:VTIMEZONE
TZID:"Europe/Vienna"
BEGIN:DAYLIGHT
TZOFFSETFROM:+0100
TZOFFSETTO:+0200
TZNAME:CEST
DTSTART:20190331T010000
END:DAYLIGHT
BEGIN:STANDARD
TZOFFSETFROM:+0200
TZOFFSETTO:+0100
TZNAME:CET
DTSTART:20191027T010000
END:STANDARD
END:VTIMEZONE
BEGIN:VEVENT
DTSTART;TZID="Europe/Vienna":20191124T193000
DTEND;TZID="Europe/Vienna":20191124T213000
DTSTAMP:20260424T222838
CREATED:20190405T162701Z
LAST-MODIFIED:20190410T061936Z
UID:63976-1574623800-1574631000@www.strawanzerin.at
SUMMARY:»Liebeslieder-Walzer« von Johannes Brahms
DESCRIPTION:Festkonzert feiert 150 Jahre Japanisch-Österreichische Beziehungen \nAm Sonntag\, dem 24. November 2019\, um 19.30 Uhr stehen Johannes Brahms Lieder-Zyklen für vier Singstimmen und Klavier auf dem Programm im Brahmssaal des Wiener Musikvereins. Zudem gelangen auch japanische Werke zur Aufführung. Auf der Bühne begeistern die mehrfach preisgekrönte japanische Sopranistin Misaki Morino\, die ungarische Mezzosopranistin Dorottya Láng\, der weltweit gefeierte Opernstar Rainer Trost sowie der japanische Bass Yasushi Hirano. Am Klavier begleiten Markus Hadulla und Yuto Kiguchi. \nKarten:\nTel. 01 505 81 90 bzw. an der Tageskassa des Musikvereins  \nBild: Misaki Morino\, Dorottya Láng\, Rainer Trost\, Yasushi Hirano\, Markus Hadulla und Yuto Kiguchi\, Foto/© Taro Morikawa \n
URL:https://www.strawanzerin.at/termin/liebeslieder-walzer-von-johannes-brahms/
LOCATION:Wiener Musikverein\, Musikvereinsplatz 1\, Wien\, Wien\, 1010\, Österreich
CATEGORIES:ab 7,Kunst/Kultur,Musik,Wien
ATTACH;FMTTYPE=image/jpeg:https://www.strawanzerin.at/wp-content/uploads/2019/04/Team_LiebesliederwalzerBrahms_Foto_by_-Taro-Morikawa-Kopie.jpg
GEO:48.201165;16.3728062
X-APPLE-STRUCTURED-LOCATION;VALUE=URI;X-ADDRESS=Wiener Musikverein Musikvereinsplatz 1 Wien Wien 1010 Österreich;X-APPLE-RADIUS=500;X-TITLE=Musikvereinsplatz 1:geo:16.3728062,48.201165
END:VEVENT
END:VCALENDAR