BEGIN:VCALENDAR
VERSION:2.0
PRODID:-//STRAWANZERIN - ECPv4.9.5//NONSGML v1.0//EN
CALSCALE:GREGORIAN
METHOD:PUBLISH
X-WR-CALNAME:STRAWANZERIN
X-ORIGINAL-URL:https://www.strawanzerin.at
X-WR-CALDESC:Veranstaltungen im STRAWANZERIN
BEGIN:VTIMEZONE
TZID:"Europe/Vienna"
BEGIN:DAYLIGHT
TZOFFSETFROM:+0100
TZOFFSETTO:+0200
TZNAME:CEST
DTSTART:20210328T010000
END:DAYLIGHT
BEGIN:STANDARD
TZOFFSETFROM:+0200
TZOFFSETTO:+0100
TZNAME:CET
DTSTART:20211031T010000
END:STANDARD
END:VTIMEZONE
BEGIN:VEVENT
DTSTART;TZID="Europe/Vienna":20211110T200000
DTEND;TZID="Europe/Vienna":20211110T214500
DTSTAMP:20260421T135413
CREATED:20211012T142134Z
LAST-MODIFIED:20211013T062025Z
UID:81096-1636574400-1636580700@www.strawanzerin.at
SUMMARY:Liedermacher/innen Lounge Landstraße
DESCRIPTION:Musik und Text jenseits der Elektronik\, unverstärkt\, pur und echt \nDie Singer-/Songwriter Andre Blau und Katie Kern (aktuelles Programm: »Caleidoscope«) präsentieren seit Jahren die Liedermacher/innen Lounge in Wien. Am Mittwoch\, den 10. November 2021\, um 20 Uhr ist DAS DORF im 3. Bezirk Schauplatz des nächsten Liederabends. Neben Songs des Duos Blau/Kern geben auch Beatrix Neundlinger und Peter Marnul Liedgut aus eigener Feder zum Besten. Der Eintritt ist frei. \nDer Konzertabend erfolgt mit freundlicher Unterstützung des Bezirks Landstraße und des Bundesministeriums für Kunst\, Kultur\, öffentlichen Dienst und Sport (BMKÖS). \nBild: Die Singer/Songwriter Katie Kern und Andre Blau geleiten durch die Liedermacher/innen Lounge\, Foto/© Dijana Idinger/Vistavision \n
URL:https://www.strawanzerin.at/termin/liedermacher-innen-lounge-landstrasse-4/
LOCATION:Das Dorf\, Viaduktgasse 2/1\, Wien\, 1030\, Österreich
CATEGORIES:freie Spende,Kunst/Kultur,Musik,Wien
ATTACH;FMTTYPE=image/jpeg:https://www.strawanzerin.at/wp-content/uploads/2021/10/Andre-Blau_Katie-Kern_08-Kopie.jpg
GEO:48.2081696;16.3877767
X-APPLE-STRUCTURED-LOCATION;VALUE=URI;X-ADDRESS=Das Dorf Viaduktgasse 2/1 Wien 1030 Österreich;X-APPLE-RADIUS=500;X-TITLE=Viaduktgasse 2/1:geo:16.3877767,48.2081696
END:VEVENT
END:VCALENDAR