BEGIN:VCALENDAR
VERSION:2.0
PRODID:-//STRAWANZERIN - ECPv4.9.5//NONSGML v1.0//EN
CALSCALE:GREGORIAN
METHOD:PUBLISH
X-WR-CALNAME:STRAWANZERIN
X-ORIGINAL-URL:https://www.strawanzerin.at
X-WR-CALDESC:Veranstaltungen im STRAWANZERIN
BEGIN:VTIMEZONE
TZID:"Europe/Vienna"
BEGIN:DAYLIGHT
TZOFFSETFROM:+0100
TZOFFSETTO:+0200
TZNAME:CEST
DTSTART:20210328T010000
END:DAYLIGHT
BEGIN:STANDARD
TZOFFSETFROM:+0200
TZOFFSETTO:+0100
TZNAME:CET
DTSTART:20211031T010000
END:STANDARD
END:VTIMEZONE
BEGIN:VEVENT
DTSTART;TZID="Europe/Vienna":20211210T200000
DTEND;TZID="Europe/Vienna":20211210T213000
DTSTAMP:20260424T215602
CREATED:20211130T125905Z
LAST-MODIFIED:20211215T173436Z
UID:82077-1639166400-1639171800@www.strawanzerin.at
SUMMARY:Liedermacherinnen-Liedermacher-Lounge aus dem Studio ins Wohnzimmer
DESCRIPTION:Die Singer/Songwriter Katie Kern und Andre Blau präsentieren seit Jahren die Liedermacherinnen-Liedermacher-Lounge. Am Freitag\, den 10. Dezember 2021\, um 20 Uhr gibt es die beliebte Soiree voller unverstärkter\, purer Musik samt geistreich-warmherziger Texte als Live-Stream-Konzert gratis und online. Neben Songs des Duos Blau/Kern stehen auch Gastauftritte von Helmut Holzdorfer\, Franz Haselsteiner und Michael „Mike“ Wanzenböck auf dem Programm: www.liedermacherlounge.at \nDer Konzertabend erfolgt mit freundlicher Unterstützung des Bundesministeriums für Kunst\, Kultur\, öffentlichen Dienst und Sport (BMKÖS). \nBild: Die Singer/Songwriter Katie Kern und Andre Blau geleiten durch die Liedermacherinnen-Liedermacher-Lounge\, Foto/© Dijana Idinger/Vistavision \n
URL:https://www.strawanzerin.at/termin/liedermacherinnen-liedermacher-lounge-aus-dem-studio-ins-wohnzimmer/
LOCATION:live stream\, online\, Welt\, Österreich
CATEGORIES:Gratis,Kunst/Kultur,Musik
ATTACH;FMTTYPE=image/jpeg:https://www.strawanzerin.at/wp-content/uploads/2021/11/Andre-Blau_Katie-Kern_08-Kopie.jpg
END:VEVENT
END:VCALENDAR