BEGIN:VCALENDAR
VERSION:2.0
PRODID:-//STRAWANZERIN - ECPv4.9.5//NONSGML v1.0//EN
CALSCALE:GREGORIAN
METHOD:PUBLISH
X-WR-CALNAME:STRAWANZERIN
X-ORIGINAL-URL:https://www.strawanzerin.at
X-WR-CALDESC:Veranstaltungen im STRAWANZERIN
BEGIN:VTIMEZONE
TZID:"Europe/Vienna"
BEGIN:DAYLIGHT
TZOFFSETFROM:+0100
TZOFFSETTO:+0200
TZNAME:CEST
DTSTART:20230326T010000
END:DAYLIGHT
BEGIN:STANDARD
TZOFFSETFROM:+0200
TZOFFSETTO:+0100
TZNAME:CET
DTSTART:20231029T010000
END:STANDARD
END:VTIMEZONE
BEGIN:VEVENT
DTSTART;TZID="Europe/Vienna":20231215T200000
DTEND;TZID="Europe/Vienna":20231215T214500
DTSTAMP:20260421T122049
CREATED:20231201T121747Z
LAST-MODIFIED:20231201T121747Z
UID:95653-1702670400-1702676700@www.strawanzerin.at
SUMMARY:Liedermacherinnen-Liedermacher-Lounge in Wien-Penzing
DESCRIPTION:Musik unplugged als Christmas Special \nDie mittlerweile kultige Reihe voll purer Liedermacherei und geistreicher Texte macht am Freitag\, dem 15. Dezember 2023\, im 14. Bezirk Station. Diesmal lädt Initiator und Mitbegründer Andre Blau zum Hörgenuss in die OKTO Studios. Als weitere Gastgeberin präsentiert auch die Wiener Liedermacherin Ilva Pauger Songs aus eigener Feder. Hinzu kommt ein Gastauftritt des Musikers Ripoff Raskolnikov. Beginn ist um 20 Uhr. Eintritt frei. \nDie Veranstaltung erfolgt mit freundlicher Unterstützung der GFÖM (Gesellschaft zur Förderung Österreichischer Musik) und aus Mitteln der Bezirkskultur Penzing. \nBild: Liedermacherin Ilva Pauger mit Organisator Andre Blau\, Foto/© Dijana Idinger/Vistavision \n
URL:https://www.strawanzerin.at/termin/liedermacherinnen-liedermacher-lounge-in-wien-penzing/
LOCATION:OKTO Studios\, Goldschlagstraße 172/4\, Wien\, Wien\, 1140\, Österreich
CATEGORIES:Gratis,Musik,Wien
ATTACH;FMTTYPE=image/jpeg:https://www.strawanzerin.at/wp-content/uploads/2023/11/Ilva-Andre009-Kopie.jpg
END:VEVENT
END:VCALENDAR