BEGIN:VCALENDAR
VERSION:2.0
PRODID:-//STRAWANZERIN - ECPv4.9.5//NONSGML v1.0//EN
CALSCALE:GREGORIAN
METHOD:PUBLISH
X-WR-CALNAME:STRAWANZERIN
X-ORIGINAL-URL:https://www.strawanzerin.at
X-WR-CALDESC:Veranstaltungen im STRAWANZERIN
BEGIN:VTIMEZONE
TZID:"Europe/Vienna"
BEGIN:DAYLIGHT
TZOFFSETFROM:+0100
TZOFFSETTO:+0200
TZNAME:CEST
DTSTART:20180325T010000
END:DAYLIGHT
BEGIN:STANDARD
TZOFFSETFROM:+0200
TZOFFSETTO:+0100
TZNAME:CET
DTSTART:20181028T010000
END:STANDARD
END:VTIMEZONE
BEGIN:VEVENT
DTSTART;TZID="Europe/Vienna":20180107T210000
DTEND;TZID="Europe/Vienna":20180107T223000
DTSTAMP:20260422T090351
CREATED:20171217T105446Z
LAST-MODIFIED:20171217T105446Z
UID:50823-1515358800-1515364200@www.strawanzerin.at
SUMMARY:Lisa Hinterreithner: Pink tape – yellow tape – black tape – Repeat!
DESCRIPTION:Ein Streifen Klebeband ist ein singuläres Ding\, ein zweiter daneben bestätigt den ersten. Ein dritter könnte der Beginn eines Musters sein. \nMuster entstehen durch Wiederholung. Wiederholung macht Lust. Wiederholung konstituiert Stabilität und erzeugt Stabilität gemeinsame Gewohnheiten? All das vor dem Hintergrund einer Welt des 21. Jahrhunderts in der das Interesse\, Masse nach hegemonialer Vorstellung zu strukturieren\, zunimmt. \nIn der Performance „Pink tape – yellow tape – black tape – Repeat!“ werden Entstehungs- und Verwerfungsprozesse von Mustern thematisiert und mit Hilfe von Klebebändern visualisiert. Aufgeklebte Punkte und Strichstrukturen bauen sich in der Black Box des Theaters zwischen Zuseher_innen und Performerinnen auf\, um im nächsten Moment transformiert zu werden oder wieder zu verschwinden. Nicht die Fixierung eines Musters ist von Interesse\, sondern sein Potential für Beweglichkeit. \nDie Musikerin Elise Mory hantiert live mit musikalischen Strukturen und Prozessen von Wiederholung. Akustische Überlagerungen und vielschichtige Loops übersetzen die visuellen Bemusterungen in Klänge und „verkleben“ die performativen Klebeband-Arbeiten musikalisch. \nEin Fuß\, ein Kopf und eine Hand verwoben mit Streifen. Die Klebebandstreifen stehen in Wechselwirkung mit den Körpern der Performerinnen Lisa Hinterreithner\, Linda Samaraweerová und Olivia Schellander. Punktstrukturen bilden ein soziales Band mit den Zuseher_innen und ziehen diese in fast zärtlichem Klebebandeinsatz direkt in das Geschehen hinein. Dieser abstrakt-poetischen Interaktion haftet ein Grad von Unbestimmtheit an. Was entsteht ist eine unmittelbare Teilnahme an einem offenen\, kollektiven Denkraum\, in welchem die Performer_innen in einer losen Beziehung zueinander agieren und selbst immer wieder die Rolle des Zusehens einnehmen. \nAlles passiert in einem Maß an Unordnung\, keine Wiederholung gleicht der anderen\, alles im Raum könnte zu einem Muster geworden sein. \n
URL:https://www.strawanzerin.at/termin/lisa-hinterreithner-pink-tape-yellow-tape-black-tape-repeat/2018-01-07/
LOCATION:Wuk\, Saal\, Währinger Straße 59\, Wien\, 1090\, Österreich
CATEGORIES:ab 7,Theater/Kabarett,Wien
ATTACH;FMTTYPE=image/jpeg:https://www.strawanzerin.at/wp-content/uploads/2017/12/Lisa_Hinterreithner.jpg
ORGANIZER;CN="WUK%20performing%20arts":MAILTO:performingarts@wuk.at
GEO:48.2232818;16.3514158
X-APPLE-STRUCTURED-LOCATION;VALUE=URI;X-ADDRESS=Wuk Saal Währinger Straße 59 Wien 1090 Österreich;X-APPLE-RADIUS=500;X-TITLE=Währinger Straße 59:geo:16.3514158,48.2232818
END:VEVENT
END:VCALENDAR