BEGIN:VCALENDAR
VERSION:2.0
PRODID:-//STRAWANZERIN - ECPv4.9.5//NONSGML v1.0//EN
CALSCALE:GREGORIAN
METHOD:PUBLISH
X-WR-CALNAME:STRAWANZERIN
X-ORIGINAL-URL:https://www.strawanzerin.at
X-WR-CALDESC:Veranstaltungen im STRAWANZERIN
BEGIN:VTIMEZONE
TZID:"Europe/Vienna"
BEGIN:DAYLIGHT
TZOFFSETFROM:+0100
TZOFFSETTO:+0200
TZNAME:CEST
DTSTART:20180325T010000
END:DAYLIGHT
BEGIN:STANDARD
TZOFFSETFROM:+0200
TZOFFSETTO:+0100
TZNAME:CET
DTSTART:20181028T010000
END:STANDARD
END:VTIMEZONE
BEGIN:VEVENT
DTSTART;TZID="Europe/Vienna":20180421T150000
DTEND;TZID="Europe/Vienna":20180421T183000
DTSTAMP:20260422T103516
CREATED:20180328T150947Z
LAST-MODIFIED:20180403T072206Z
UID:53930-1524322800-1524335400@www.strawanzerin.at
SUMMARY:Literarischer Spaziergang im Augarten
DESCRIPTION:Treffpunkt Wallensteinplatz/Karl-Meißl-Straße – Danach 7 Lesestationen (Erika P. Dellert-Vambe\, Sascha Wittmann\, Waldtraud Zechmeister\, Cornelia Schaefer II\, Manfred Loydolt\, Luis Stabauer und Ingrid J. Poljak) – Abschlusslesung ab 16:30 im Restaurant „Zur Reblaus“\, Obere Augartenstraße 72\, 1020 Wien\, Luis Stabauer: Kurzlesungen aus „Die Weißen“ \n
URL:https://www.strawanzerin.at/termin/literarischer-spaziergang-im-augarten/
LOCATION:Augarten\, Treffpunkt Wallensteinplatz/Karl-Meißl-Straße\, Wallensteinplatz/Karl-Meißl-Straße\, Wien\, 1020\, Österreich
CATEGORIES:Literatur
ATTACH;FMTTYPE=image/jpeg:https://www.strawanzerin.at/wp-content/uploads/2018/03/coverbild-die-weißen-schatten.jpg
END:VEVENT
END:VCALENDAR