BEGIN:VCALENDAR
VERSION:2.0
PRODID:-//STRAWANZERIN - ECPv4.9.5//NONSGML v1.0//EN
CALSCALE:GREGORIAN
METHOD:PUBLISH
X-WR-CALNAME:STRAWANZERIN
X-ORIGINAL-URL:https://www.strawanzerin.at
X-WR-CALDESC:Veranstaltungen im STRAWANZERIN
BEGIN:VTIMEZONE
TZID:"Europe/Vienna"
BEGIN:DAYLIGHT
TZOFFSETFROM:+0100
TZOFFSETTO:+0200
TZNAME:CEST
DTSTART:20220327T010000
END:DAYLIGHT
BEGIN:STANDARD
TZOFFSETFROM:+0200
TZOFFSETTO:+0100
TZNAME:CET
DTSTART:20221030T010000
END:STANDARD
END:VTIMEZONE
BEGIN:VEVENT
DTSTART;TZID="Europe/Vienna":20220709T140000
DTEND;TZID="Europe/Vienna":20220710T190000
DTSTAMP:20260421T122216
CREATED:20220530T111038Z
LAST-MODIFIED:20220530T111038Z
UID:85009-1657375200-1657479600@www.strawanzerin.at
SUMMARY:Literarisches Schreiben
DESCRIPTION:Im Rahmen der feministischen Workshopreihe „Zur Sprache kommen: Frauen schreiben Geschichte*n“ findet im Juli 2022 der Workshop „Literarisches Schreiben“ statt. Der Workshop der Vortragenden Dr. Mag. Marlene Schachinger ist thematisch in zwei Teile geteilt und fokussieren sich auf die Stärkung der Frau in der Literatur. \nTeil 1: „Das literarische Feld: Fakten\, Einsichten und Lösungsansätze“ Teilnehmerinnen werden angeregt kreative Lösungen für existente Herausforderungen zu suchen. Als Basis dient die Bestandsaufnahme der Gegebenheiten der Teilnehmerinnen\, ergänzt um die Einsichten von 19 Kolleginnen mittels des Films »Arbeit statt Almosen«. \nTeil 2: „Literarisches Schreiben: Einblick in das kleine 1×1 der Spracharbeit“. Die Teilnehmerinnen bekommen einen besseren Einblick in die Struktur und es stehen u.a. Sprachspiel\, Erzählperspektive\, Realitätswechsel\, Raum\, Zeit\, Chinesische Kästchen\, kommunizierende Röhren\, Spannungsbogen\, Proustsches Stolpern und Spiegelszenen am Programm. \n
URL:https://www.strawanzerin.at/termin/literarisches-schreiben/2022-07-09/
LOCATION:Schüttkasten\, Kirchfeldstraße 73\, 2070 Unternalb bei Retz\, 2070\, Vereinigte Staaten
CATEGORIES:Literatur
ATTACH;FMTTYPE=image/png:https://www.strawanzerin.at/wp-content/uploads/2022/05/Zur-Sprache-kommen-Frauen-schreiben-Geschichte-2-1.png
ORGANIZER;CN="IGfemAT":MAILTO:yes@igfem.at
END:VEVENT
END:VCALENDAR