BEGIN:VCALENDAR
VERSION:2.0
PRODID:-//STRAWANZERIN - ECPv4.9.5//NONSGML v1.0//EN
CALSCALE:GREGORIAN
METHOD:PUBLISH
X-WR-CALNAME:STRAWANZERIN
X-ORIGINAL-URL:https://www.strawanzerin.at
X-WR-CALDESC:Veranstaltungen im STRAWANZERIN
BEGIN:VTIMEZONE
TZID:"Europe/Vienna"
BEGIN:DAYLIGHT
TZOFFSETFROM:+0100
TZOFFSETTO:+0200
TZNAME:CEST
DTSTART:20200329T010000
END:DAYLIGHT
BEGIN:STANDARD
TZOFFSETFROM:+0200
TZOFFSETTO:+0100
TZNAME:CET
DTSTART:20201025T010000
END:STANDARD
END:VTIMEZONE
BEGIN:VEVENT
DTSTART;TZID="Europe/Vienna":20201003T170000
DTEND;TZID="Europe/Vienna":20201003T180000
DTSTAMP:20260419T151039
CREATED:20200812T114248Z
LAST-MODIFIED:20200812T114248Z
UID:74930-1601744400-1601748000@www.strawanzerin.at
SUMMARY:Literaturkonzert »Ich spiel den Ball dir zu«
DESCRIPTION:Lebensweisheiten und Lieder lenken Blick aufs Wesentliche \nSeine Gedichte und Liedtexte durchdringt eine stark lebensbejahende Kraft. Am Samstag\, dem 3. Oktober\, um 17 Uhr liest der Wiener Autor Karl Ebinger im Hotel Zeitgeist Vienna aus seinem neuesten Buch\, dessen inspirierende Texte eine spielerische Leichtigkeit versprühen und zum positiven Denken einladen. Sängerin Rita Nikodim und Gitarrist Gerhard Loos sorgen für die passende Klangfarbe. Der Eintritt zu diesem Literaturkonzert ist kostenlos. Um freiwillige Spenden wird gebeten. \nAufgrund beschränkter Platzanzahl ist eine Anmeldung erforderlich: Tel. 0650 2907754 oder info@ebingernet.com \nBild: Der Wiener Autor Karl Ebinger\, Foto/© kunstfotografin.at \n
URL:https://www.strawanzerin.at/termin/literaturkonzert-ich-spiel-den-ball-dir-zu/
LOCATION:Hotel ZEITGEIST Vienna\, Sonnwendgasse 15\, Wien\, Wien\, 1100\, Österreich
CATEGORIES:freie Spende,Literatur,Musik
ATTACH;FMTTYPE=image/jpeg:https://www.strawanzerin.at/wp-content/uploads/2020/08/EK_Pressefoto02Namensnennung-Kopie.jpg
GEO:48.1822922;16.3783348
X-APPLE-STRUCTURED-LOCATION;VALUE=URI;X-ADDRESS=Hotel ZEITGEIST Vienna Sonnwendgasse 15 Wien Wien 1100 Österreich;X-APPLE-RADIUS=500;X-TITLE=Sonnwendgasse 15:geo:16.3783348,48.1822922
END:VEVENT
END:VCALENDAR