BEGIN:VCALENDAR
VERSION:2.0
PRODID:-//STRAWANZERIN - ECPv4.9.5//NONSGML v1.0//EN
CALSCALE:GREGORIAN
METHOD:PUBLISH
X-WR-CALNAME:STRAWANZERIN
X-ORIGINAL-URL:https://www.strawanzerin.at
X-WR-CALDESC:Veranstaltungen im STRAWANZERIN
BEGIN:VTIMEZONE
TZID:"Europe/Vienna"
BEGIN:DAYLIGHT
TZOFFSETFROM:+0100
TZOFFSETTO:+0200
TZNAME:CEST
DTSTART:20250330T010000
END:DAYLIGHT
BEGIN:STANDARD
TZOFFSETFROM:+0200
TZOFFSETTO:+0100
TZNAME:CET
DTSTART:20251026T010000
END:STANDARD
END:VTIMEZONE
BEGIN:VEVENT
DTSTART;TZID="Europe/Vienna":20251011T190000
DTEND;TZID="Europe/Vienna":20251011T210000
DTSTAMP:20260421T211942
CREATED:20250828T081900Z
LAST-MODIFIED:20250828T081900Z
UID:109243-1760209200-1760216400@www.strawanzerin.at
SUMMARY:Literatursalon 11.10.2025 im BÖS-Atelier
DESCRIPTION:Literatursalon 11.10.2025\, 19 Uhr\nLesungen:\nThomas Perle: Textfragmente etc.\, 2024\nKatharina Köller: “Was ich im Wasser sah”\, 2020  u.a.\nGabriele Kögl: “Brief vom Vater”\, 2023 \nModeration: Erika Kronabitter\nAusstellung: Peter Bosch “Abwesenheitsportraits” \nAlle Literatursalons finden im BÖS Atelier statt. Beginn ist um 19 Uhr \nVivenotgasse 30/3/3\nA‑1120 Wien \nU6 Station Niederhofstraße\, Aufgang Reschgasse\n(U6 Station ist in der Vivenotgasse)\nVon dort die Vivenotgasse leicht bergauf\, ca. 4 min.\nBitte beim BÖS-Schild läuten.\n3. Gebäude links im Hof. Wieder beim BÖS-Schild läuten. \n
URL:https://www.strawanzerin.at/termin/literatursalon-11-10-2025-im-boes-atelier/
LOCATION:BÖS-Atelier\, Vivenotgasse 30/ 2.2\, 1120 Wien\, Wien\, 1120\, Österreich
CATEGORIES:Deutsch,freie Spende,Kunst/Kultur,Literatur,Wien
ATTACH;FMTTYPE=image/jpeg:https://www.strawanzerin.at/wp-content/uploads/2025/08/BOeS-Logo-Bild.jpg
ORGANIZER;CN="B%C3%96S-Berufsverband%20%C3%96sterreichischer%20Schreibp%C3%A4dagogInnen":MAILTO:hannah.sideris@boesmail.at
GEO:48.1806775;16.3309428
X-APPLE-STRUCTURED-LOCATION;VALUE=URI;X-ADDRESS=BÖS-Atelier Vivenotgasse 30/ 2.2 1120 Wien Wien 1120 Österreich;X-APPLE-RADIUS=500;X-TITLE=Vivenotgasse 30/ 2.2:geo:16.3309428,48.1806775
END:VEVENT
END:VCALENDAR