BEGIN:VCALENDAR
VERSION:2.0
PRODID:-//STRAWANZERIN - ECPv4.9.5//NONSGML v1.0//EN
CALSCALE:GREGORIAN
METHOD:PUBLISH
X-WR-CALNAME:STRAWANZERIN
X-ORIGINAL-URL:https://www.strawanzerin.at
X-WR-CALDESC:Veranstaltungen im STRAWANZERIN
BEGIN:VTIMEZONE
TZID:"Europe/Vienna"
BEGIN:DAYLIGHT
TZOFFSETFROM:+0100
TZOFFSETTO:+0200
TZNAME:CEST
DTSTART:20170326T010000
END:DAYLIGHT
BEGIN:STANDARD
TZOFFSETFROM:+0200
TZOFFSETTO:+0100
TZNAME:CET
DTSTART:20171029T010000
END:STANDARD
END:VTIMEZONE
BEGIN:VEVENT
DTSTART;TZID="Europe/Vienna":20170610T190000
DTEND;TZID="Europe/Vienna":20170610T220000
DTSTAMP:20260423T154511
CREATED:20170607T163200Z
LAST-MODIFIED:20170609T084647Z
UID:44493-1497121200-1497132000@www.strawanzerin.at
SUMMARY:Literatursalon
DESCRIPTION:Lesung mit Christine Huber und Jeanette L. Clariond\nAusstellung von Petrus Akkordeon\nModeration: Sophie Reyer\nBuffet \n
URL:https://www.strawanzerin.at/termin/literatursalon-2/
LOCATION:BOeS Atelier\, Vivenotgasse  30/2/2\, Wien\, Wien\, 1120\, Österreich
CATEGORIES:Eintrittspreis,freie Spende,Literatur,Veranstaltungssprache,Wien
ATTACH;FMTTYPE=image/jpeg:https://www.strawanzerin.at/wp-content/uploads/2017/06/Flyer-Juni-17.jpg
ORGANIZER;CN="BOeS":MAILTO:hannah.sideris@gmail.com
GEO:48.1785387;16.3311487
X-APPLE-STRUCTURED-LOCATION;VALUE=URI;X-ADDRESS=BOeS Atelier Vivenotgasse  30/2/2 Wien Wien 1120 Österreich;X-APPLE-RADIUS=500;X-TITLE=Vivenotgasse  30/2/2:geo:16.3311487,48.1785387
END:VEVENT
END:VCALENDAR