BEGIN:VCALENDAR
VERSION:2.0
PRODID:-//STRAWANZERIN - ECPv4.9.5//NONSGML v1.0//EN
CALSCALE:GREGORIAN
METHOD:PUBLISH
X-WR-CALNAME:STRAWANZERIN
X-ORIGINAL-URL:https://www.strawanzerin.at
X-WR-CALDESC:Veranstaltungen im STRAWANZERIN
BEGIN:VTIMEZONE
TZID:"Europe/Vienna"
BEGIN:DAYLIGHT
TZOFFSETFROM:+0100
TZOFFSETTO:+0200
TZNAME:CEST
DTSTART:20250330T010000
END:DAYLIGHT
BEGIN:STANDARD
TZOFFSETFROM:+0200
TZOFFSETTO:+0100
TZNAME:CET
DTSTART:20251026T010000
END:STANDARD
END:VTIMEZONE
BEGIN:VEVENT
DTSTART;TZID="Europe/Vienna":20251021T190000
DTEND;TZID="Europe/Vienna":20251021T210000
DTSTAMP:20260422T122052
CREATED:20251008T134456Z
LAST-MODIFIED:20251008T134456Z
UID:110033-1761073200-1761080400@www.strawanzerin.at
SUMMARY:Literaturstunde: Alles wird gut. Vielleicht.
DESCRIPTION:Eine Lesung über Utopien und Dystopien.   \nEs lesen: \nDavid Hoffmann\nEva Schörkhuber\nPhilipp Hauser \nMusik:\nGeorg Haider \nTanz:\nEva Schmechtig \nModeration & Kuration:\nAlexandra Mitterer & Laetitia Lang \n.-.-.-.-.-.-.-.-.-.-.-.-.-.-.-.-.-.\nCreativ Cluster\nViktor-Christ-Gasse 10\n1050 Wien \n21. Oktober 19:00-21:00\nEinlass: 18:30\nEintritt frei\, Wertschätzungsbeitrag willkommen \n.-.-.-.-.-.-.-.-.-.-.-.-.-.-.-.-.-.\nGefördert durch Mittel des Margaretener Kulturbudgets und der Basis Kultur Wien. \nFoto: Laetitia Lang\nMural: Credit to unknown artist. \n
URL:https://www.strawanzerin.at/termin/literaturstunde-alles-wird-gut-vielleicht/
LOCATION:creative cluster\, Victor-Christ-Gasse 10\, Margareten\, Wien\, 1050\, Österreich
CATEGORIES:Literatur,Musik,Tanz
ATTACH;FMTTYPE=image/jpeg:https://www.strawanzerin.at/wp-content/uploads/2025/10/FEED_Flyer_3.jpg
ORGANIZER;CN="Literaturstunde":MAILTO:literaturstunde@gmail.com
END:VEVENT
END:VCALENDAR