BEGIN:VCALENDAR
VERSION:2.0
PRODID:-//STRAWANZERIN - ECPv4.9.5//NONSGML v1.0//EN
CALSCALE:GREGORIAN
METHOD:PUBLISH
X-WR-CALNAME:STRAWANZERIN
X-ORIGINAL-URL:https://www.strawanzerin.at
X-WR-CALDESC:Veranstaltungen im STRAWANZERIN
BEGIN:VTIMEZONE
TZID:"Europe/Vienna"
BEGIN:DAYLIGHT
TZOFFSETFROM:+0100
TZOFFSETTO:+0200
TZNAME:CEST
DTSTART:20170326T010000
END:DAYLIGHT
BEGIN:STANDARD
TZOFFSETFROM:+0200
TZOFFSETTO:+0100
TZNAME:CET
DTSTART:20171029T010000
END:STANDARD
END:VTIMEZONE
BEGIN:VEVENT
DTSTART;TZID="Europe/Vienna":20170511T210000
DTEND;TZID="Europe/Vienna":20170511T233000
DTSTAMP:20260421T005840
CREATED:20170508T135328Z
LAST-MODIFIED:20170511T104917Z
UID:43850-1494536400-1494545400@www.strawanzerin.at
SUMMARY:Little Rosies Kindergarten live at Einbaumöbel
DESCRIPTION:Little Rosie’s Kindergarten ist ein junges 12-köpfiges Ensemble aus Wien. Der Jazzszene entsprungen widmet sich die Band nun dem finden von großformatigen Trance-Sounds. Schwere Grooves und meditative Klangwolken wechseln mit langen einfühlsamen Themen um kurz danach von frei aus dem Moment erschaffenen Drones zerrissen zu werden. Die Kompositionen stammen alle es den Federn der Bandmitglieder was mitsich bringt das niemand zum Gesamtleader avanciert und so die Band mit der Kraft von zwölf gleichzeitigen Solisten strotzen kann. \nWas war der Kindergarten nicht für eine unbeschwerte Zeit: zwanglos und ungeniert\, ganz ohne Verpflichtungen einfach in den Tag hinein leben; eine Zeit\, als ein Löffel ein Raumschiff hat sein können und ein Berg Bauklötze eine stolze Ritterburg. Eine Zeit purer und unvoreingenommener Kreativität. \nBesetzung: \nAnna Anderluh\, Anna Widhauer – Gesang\nFlorian Sighartner – Violine\nMatteo Haitzmann – Violine\nClemens Sainitzer – Cello\nLisa Hofmanninger – Sopransaxphon\, Bassklarinette\nWerner Zangerle – Tenorsaxophon\nRobert Schröck – Baritonsaxophon\nLukas Leitner – Piano/Synthesizer\nHelmuth Mühlbacher – Gitarre\nPhilipp Kienberger – E-Bass\nJudith Schwarz – Schlagzeug \nwww.little-rosies-kindergarten.com  \nhttps://www.facebook.com/events/1887297311540775/ \n
URL:https://www.strawanzerin.at/termin/little-rosies-kindergarten-live-at-einbaumoebel/
LOCATION:Einbaumöbel\, Gürtelbogen 97\, Wien\, Wien\, 1090\, Österreich
CATEGORIES:freie Spende,Kunst/Kultur,Mehrsprachig,Musik,Wien
ATTACH;FMTTYPE=image/jpeg:https://www.strawanzerin.at/wp-content/uploads/2017/05/LRK-Presse-Foto.jpg
GEO:48.2253633;16.3561956
X-APPLE-STRUCTURED-LOCATION;VALUE=URI;X-ADDRESS=Einbaumöbel Gürtelbogen 97 Wien Wien 1090 Österreich;X-APPLE-RADIUS=500;X-TITLE=Gürtelbogen 97:geo:16.3561956,48.2253633
END:VEVENT
END:VCALENDAR