BEGIN:VCALENDAR
VERSION:2.0
PRODID:-//STRAWANZERIN - ECPv4.9.5//NONSGML v1.0//EN
CALSCALE:GREGORIAN
METHOD:PUBLISH
X-WR-CALNAME:STRAWANZERIN
X-ORIGINAL-URL:https://www.strawanzerin.at
X-WR-CALDESC:Veranstaltungen im STRAWANZERIN
BEGIN:VTIMEZONE
TZID:"Europe/Vienna"
BEGIN:DAYLIGHT
TZOFFSETFROM:+0100
TZOFFSETTO:+0200
TZNAME:CEST
DTSTART:20210328T010000
END:DAYLIGHT
BEGIN:STANDARD
TZOFFSETFROM:+0200
TZOFFSETTO:+0100
TZNAME:CET
DTSTART:20211031T010000
END:STANDARD
END:VTIMEZONE
BEGIN:VEVENT
DTSTART;TZID="Europe/Vienna":20210526T183000
DTEND;TZID="Europe/Vienna":20210526T193000
DTSTAMP:20260420T191258
CREATED:20210526T092418Z
LAST-MODIFIED:20210526T092418Z
UID:77148-1622053800-1622057400@www.strawanzerin.at
SUMMARY:Live-Stream: Gemeinsam alleine – Patchworkfamilien & Singlehaushalte (26. Mai 2021\, Wien kann’s ! #2)
DESCRIPTION:Hallo zusammen! \nDiesmal geht’s darum\, wie wir heutzutage (miteinander) leben – und gemeinsam mit der Stadt Wien laden wir Euch herzlich zum kostenfreien Publikums-Live-Stream „Wien kann’s ! #2″ ein. \nhttps://www.wien-kanns.at/wien-kanns-2-2/ \nGerade in Krisenzeiten sind Familie & Partnerschaft ein wichtiger Rückhalt – doch in welcher Form und Konstellation gibt es diese – und was bedeutet eigentlich „Familie“ und „Partner*in“? Wer lebt in Patchworkfamilien\, wer als Single – oder wer in beiden Modellen? Über Familien & Singles im Wandel\, ihre Herausforderungen & Möglichkeiten\, diskutiert Moderator Dr. Till C. Jelitto mit unseren Expert*innen*** – und mit Euch im Live-Chat.  Seid via Stream live dabei und schickt uns Euren Input bzw. Eure Fragen schon vorab per E-Mail an wien-kanns@prd.at oder direkt während des laufenden Streams über den YouTube-Chat.  *** Hinweis: Möglichkeit\, mit eigenen Erfahrungen aktuelle Forschungsarbeiten zum Thema zu unterstützen\, siehe unten! ***\n———————————————————————————— \nWIEN KANN’S ! #2 \nGEMEINSAM ALLEINE – PATCHWORKFAMILIEN & SINGLEHAUSHALTE \nMittwoch\, 26. Mai 2021\, 18:30 – 19.30 Uhr\nLive aus den Artwerkstudios in Wien\nAnmeldung nicht erforderlich\nEinstieg in den Live-Stream: über unseren YouTube-Kanal https://www.youtube.com/channel/UC2C5roJb1G4RuO0HeiV5tRg oder über unsere Webseite https://www.wien-kanns.at \nIm Studio: \nDr. Christine Geserick\nÖsterreichisches Institut für Familienforschung\nUniversität Wien \nMag. Sarah Zeller\nJUNO – Zentrum für Getrennt- und Alleinerziehende \nDr. Till C. Jelitto\, MBA (Moderation)\nPR&D – Public Relations für Forschung & Bildung\n———————————————————————————— \n*** Wer die Forschungs- und Arbeitsthemen unserer Sprecher*innen näher kennenlernen möchte\, hat hier die Gelegenheit dazu und kann mit den eigenen Erfahrungen zur neuesten Forschung beitragen: \nDr. Geserick: Fragebogen zu Partnerschaften & Singles in Corona-Zeiten www.oif.ac.at/corona \nMag. Zeller: Fragebogen für Scheidungs-Eltern und -Kinder zum Doppelresidenzmodell https://www.alleinerziehen-juno.at \n———————————————————————————— \nLink zu den Verantwortlichen: www.prd.at \nRückfragen bitte an: Dr. Barbara Bauder\, Tel.: 0043 664 1576 350 oder via E-Mail: bauder@prd.at \nWir freuen uns auf Eure Teilnahme! \n***************************\nGefördert durch die Wirtschaftsagentur Wien. Ein Fonds der Stadt Wien. \n
URL:https://www.strawanzerin.at/termin/live-stream-gemeinsam-alleine-patchworkfamilien-singlehaushalte-26-mai-2021-wien-kanns-2/
LOCATION:Online
ATTACH;FMTTYPE=image/jpeg:https://www.strawanzerin.at/wp-content/uploads/2021/05/MediumSquareLogo.jpg
ORGANIZER;CN="PR%26amp%3BD%20Public%20Relations%20f%C3%BCr%20Forschung%20%26amp%3B%20Bildung":MAILTO:bauder@prd.at
END:VEVENT
END:VCALENDAR