BEGIN:VCALENDAR
VERSION:2.0
PRODID:-//STRAWANZERIN - ECPv4.9.5//NONSGML v1.0//EN
CALSCALE:GREGORIAN
METHOD:PUBLISH
X-WR-CALNAME:STRAWANZERIN
X-ORIGINAL-URL:https://www.strawanzerin.at
X-WR-CALDESC:Veranstaltungen im STRAWANZERIN
BEGIN:VTIMEZONE
TZID:"Europe/Vienna"
BEGIN:DAYLIGHT
TZOFFSETFROM:+0100
TZOFFSETTO:+0200
TZNAME:CEST
DTSTART:20250330T010000
END:DAYLIGHT
BEGIN:STANDARD
TZOFFSETFROM:+0200
TZOFFSETTO:+0100
TZNAME:CET
DTSTART:20251026T010000
END:STANDARD
END:VTIMEZONE
BEGIN:VEVENT
DTSTART;TZID="Europe/Vienna":20251122T100000
DTEND;TZID="Europe/Vienna":20251123T230000
DTSTAMP:20260421T090518
CREATED:20251017T080255Z
LAST-MODIFIED:20251017T080255Z
UID:110352-1763805600-1763938800@www.strawanzerin.at
SUMMARY:Ljubimowka – Echo. Wien // Festival neuer Dramatik
DESCRIPTION:Krieg\, Migration und Liebe in einer neuen Welt: Erstmals findet das Ljubimowka-Festival neuer Dramatik in Wien statt. Das Programm präsentiert sieben Theaterstücke\, die nach dem 24. Februar 2022 von Autor*innen aus Russland\, Belarus\, Litauen\, der Ukraine und Deutschland verfasst wurden. Die Lesungen finden auf Deutsch und Russisch mit deutschen Übertiteln statt. Im Anschluss gibt es jeweils Gespräche mit den Dramatiker*innen\, Regie und Schauspielenden. In einer Podiumsdiskussion geht es zudem um Herausforderungen beim Übersetzen und die Perspektiven von Antikriegs-Theaterstücken. \nStücke: Marius Ivaškevičius (Litauen)\, Irina Serebryakova (Ukraine–Warschau)\, Mikita Iłinczyk (Belarus–Polen)\, Natalia Lizorkina (Russland–Tbilisi)\, Elizaveta Kashintceva (Russland)\, Kunstgruppe Mädchen vom Jupiter (Hamburg)\nÜbersetzung: Claudia Zeher\, Ruth Altenhofer\, Johanna Marx \nIn Kooperation mit dem Dialogbüro Wien. \n
URL:https://www.strawanzerin.at/termin/ljubimowka-echo-wien-festival-neuer-dramatik/
LOCATION:Depot – Kunst und Diskussion\, Breite Gasse 3\, Wien\, 1070\, Österreich
CATEGORIES:Deutsch,Gratis,Kunst/Kultur,Literatur,Theater/Kabarett,Vortrag/Symposium,Wien
ATTACH;FMTTYPE=image/jpeg:https://www.strawanzerin.at/wp-content/uploads/2025/10/K1A7100_Logo_c_Bureau_Kies_cut-9-scaled.jpg
ORGANIZER;CN="Depot%20-%20Kunst%20und%20Diskussion":MAILTO:depot@depot.or.at
END:VEVENT
END:VCALENDAR