BEGIN:VCALENDAR
VERSION:2.0
PRODID:-//STRAWANZERIN - ECPv4.9.5//NONSGML v1.0//EN
CALSCALE:GREGORIAN
METHOD:PUBLISH
X-WR-CALNAME:STRAWANZERIN
X-ORIGINAL-URL:https://www.strawanzerin.at
X-WR-CALDESC:Veranstaltungen im STRAWANZERIN
BEGIN:VTIMEZONE
TZID:"Europe/Vienna"
BEGIN:DAYLIGHT
TZOFFSETFROM:+0100
TZOFFSETTO:+0200
TZNAME:CEST
DTSTART:20190331T010000
END:DAYLIGHT
BEGIN:STANDARD
TZOFFSETFROM:+0200
TZOFFSETTO:+0100
TZNAME:CET
DTSTART:20191027T010000
END:STANDARD
END:VTIMEZONE
BEGIN:VEVENT
DTSTART;TZID="Europe/Vienna":20190104T230000
DTEND;TZID="Europe/Vienna":20190105T060000
DTSTAMP:20260421T172659
CREATED:20181222T101919Z
LAST-MODIFIED:20181222T102307Z
UID:61438-1546642800-1546668000@www.strawanzerin.at
SUMMARY:LOOP 2019 – Oldschool Techno bis 1994
DESCRIPTION:DJs on Vinyl:\npure (http://musicwithmachines.org/)\nglow (http://www.trust.at/)\ntina303 (https://www.facebook.com/planet303/)\ndan lodig (https://www.pomelo.org/) \nWir müssen nicht mehr viel dazu sagen\, oder? Einfach drauf freuen ist angesagt!\nMaximum Party mit unseren DJ-Heroes\, Oldschool-Sound\, Nebel\, Strobe und allem\, was dazugehört … as loud as possible bis weit in die Morgenstunden! \nfb Veranstaltung:\nhttps://www.facebook.com/events/2029044010497045/ \nfb Gruppe:\nhttps://www.facebook.com/groups/321670314555178/ \n
URL:https://www.strawanzerin.at/termin/loop-2019-oldschool-techno-bis-1994/
LOCATION:Fluc & Fluc Wanne\, Praterstern 5\, 1020\, Wien\, Österreich
GEO:48.2177103;16.3932645
X-APPLE-STRUCTURED-LOCATION;VALUE=URI;X-ADDRESS=Fluc & Fluc Wanne Praterstern 5 1020 Wien Österreich;X-APPLE-RADIUS=500;X-TITLE=Praterstern 5\, 1020:geo:16.3932645,48.2177103
END:VEVENT
END:VCALENDAR