BEGIN:VCALENDAR
VERSION:2.0
PRODID:-//STRAWANZERIN - ECPv4.9.5//NONSGML v1.0//EN
CALSCALE:GREGORIAN
METHOD:PUBLISH
X-WR-CALNAME:STRAWANZERIN
X-ORIGINAL-URL:https://www.strawanzerin.at
X-WR-CALDESC:Veranstaltungen im STRAWANZERIN
BEGIN:VTIMEZONE
TZID:"Europe/Vienna"
BEGIN:DAYLIGHT
TZOFFSETFROM:+0100
TZOFFSETTO:+0200
TZNAME:CEST
DTSTART:20170326T010000
END:DAYLIGHT
BEGIN:STANDARD
TZOFFSETFROM:+0200
TZOFFSETTO:+0100
TZNAME:CET
DTSTART:20171029T010000
END:STANDARD
END:VTIMEZONE
BEGIN:VEVENT
DTSTART;TZID="Europe/Vienna":20170518T190000
DTEND;TZID="Europe/Vienna":20170518T210000
DTSTAMP:20260420T083251
CREATED:20170510T112943Z
LAST-MODIFIED:20170511T105136Z
UID:43877-1495134000-1495141200@www.strawanzerin.at
SUMMARY:LOW VIBRATION. Im Bann der tiefen Töne!
DESCRIPTION:Dieses Konzert legt nicht nur einen Schwerpunkt auf das Instrument Bassklarinette\, sondern schenkt auch den MusikerInnen sowie den Komponistinnen\, die für die Bassklarinette geschrieben haben\, spezielle Aufmerksamkeit. \nVor 20 Jahren gab es noch wenige Frauen die Bassklarinette als Soloinstrument spielten. Inzwischen haben nicht nur viele Frauen die Bassklarinette für sich als Hauptinstrument ausgewählt\, sondern auch immer mehr namhafte Komponistinnen Werke für dieses einzigartige Instrument geschrieben. \nWir präsentieren Werke von zeitgenössischen Komponistinnen und stellen BassklarinettistInnen in den Mittelpunkt. \n
URL:https://www.strawanzerin.at/termin/low-vibration-im-bann-der-tiefen-toene/
LOCATION:mdw – Universität für Musik und darstellende Kunst Wien\, Anton-von-Webern-Platz 1\, Wien\, Wien\, 1200\, Österreich
CATEGORIES:Deutsch,Feminismus,Gratis,Kunst/Kultur,Musik,Wien
ATTACH;FMTTYPE=image/jpeg:https://www.strawanzerin.at/wp-content/uploads/2017/05/LowVibration_SebastianSchmid.jpg
GEO:48.201799;16.3847658
X-APPLE-STRUCTURED-LOCATION;VALUE=URI;X-ADDRESS=mdw – Universität für Musik und darstellende Kunst Wien Anton-von-Webern-Platz 1 Wien Wien 1200 Österreich;X-APPLE-RADIUS=500;X-TITLE=Anton-von-Webern-Platz 1:geo:16.3847658,48.201799
END:VEVENT
END:VCALENDAR