BEGIN:VCALENDAR
VERSION:2.0
PRODID:-//STRAWANZERIN - ECPv4.9.5//NONSGML v1.0//EN
CALSCALE:GREGORIAN
METHOD:PUBLISH
X-WR-CALNAME:STRAWANZERIN
X-ORIGINAL-URL:https://www.strawanzerin.at
X-WR-CALDESC:Veranstaltungen im STRAWANZERIN
BEGIN:VTIMEZONE
TZID:"Europe/Vienna"
BEGIN:DAYLIGHT
TZOFFSETFROM:+0100
TZOFFSETTO:+0200
TZNAME:CEST
DTSTART:20180325T010000
END:DAYLIGHT
BEGIN:STANDARD
TZOFFSETFROM:+0200
TZOFFSETTO:+0100
TZNAME:CET
DTSTART:20181028T010000
END:STANDARD
END:VTIMEZONE
BEGIN:VEVENT
DTSTART;TZID="Europe/Vienna":20180216T193000
DTEND;TZID="Europe/Vienna":20180216T223000
DTSTAMP:20260420T204528
CREATED:20180123T210642Z
LAST-MODIFIED:20180129T102354Z
UID:51849-1518809400-1518820200@www.strawanzerin.at
SUMMARY:LUCA FRANCIOSO
DESCRIPTION:Einlass: 19:30\nBeginn: 20:00\nEintritt: um Musikbeitrag und Sitzplatzreservierung wird gebeten. \nLuca Francioso ist ein in Reggio Calabria geborener Gitarrist\, Komponist und Schriftsteller. \n1987 begann er das Studium der klassischen Gitarre bei Meister Giuseppe Alati. Seit 1996 gilt sein Interesse der Technik „Fingerstyle“\, die er 1997 mit dem Gitarristen Franco Morone perfektionierte. Seine ersten Geschichten schrieb Luca Francioso im Jahr 1991. \nLuca Francioso hat die Bühne bereits mit zahlreichen internationalen Künstlern geteilt und an den wichtigsten italienischen Gitarren-Festivals teilgenommen. Er tourte durch Italien\, Spanien\, England\, die Schweiz\, Frankreich\, Belgien\, Österreich\, die USA\, Deutschland\, und Tschechien und spielte dabei mehr als 1.000 Konzerte. \nAuf der HOB i RAUM Bühne wird er im Rahmen seiner „Bausatz-Tour“ stehen. \n
URL:https://www.strawanzerin.at/termin/luca-francioso/
LOCATION:HOB i RAUM\, Hanuschgasse 1\, Bad Vöslau\, Niederösterreich\, 2540
CATEGORIES:freie Spende,Kunst/Kultur,Musik,Niederösterreich
ATTACH;FMTTYPE=image/jpeg:https://www.strawanzerin.at/wp-content/uploads/2018/01/Foto-videoclip-Bausatz-5-giugno-2017-30x20-300x200.jpg
ORGANIZER;CN="HOB%20i%20RAUM":MAILTO:petra@hobiraum.at
GEO:47.9686941;16.2205195
X-APPLE-STRUCTURED-LOCATION;VALUE=URI;X-ADDRESS=HOB i RAUM Hanuschgasse 1 Bad Vöslau Niederösterreich 2540;X-APPLE-RADIUS=500;X-TITLE=Hanuschgasse 1:geo:16.2205195,47.9686941
END:VEVENT
END:VCALENDAR