BEGIN:VCALENDAR
VERSION:2.0
PRODID:-//STRAWANZERIN - ECPv4.9.5//NONSGML v1.0//EN
CALSCALE:GREGORIAN
METHOD:PUBLISH
X-WR-CALNAME:STRAWANZERIN
X-ORIGINAL-URL:https://www.strawanzerin.at
X-WR-CALDESC:Veranstaltungen im STRAWANZERIN
BEGIN:VTIMEZONE
TZID:"Europe/Vienna"
BEGIN:DAYLIGHT
TZOFFSETFROM:+0100
TZOFFSETTO:+0200
TZNAME:CEST
DTSTART:20180325T010000
END:DAYLIGHT
BEGIN:STANDARD
TZOFFSETFROM:+0200
TZOFFSETTO:+0100
TZNAME:CET
DTSTART:20181028T010000
END:STANDARD
END:VTIMEZONE
BEGIN:VEVENT
DTSTART;TZID="Europe/Vienna":20181012T200000
DTEND;TZID="Europe/Vienna":20181012T213000
DTSTAMP:20260421T123118
CREATED:20181007T112630Z
LAST-MODIFIED:20181007T112630Z
UID:59335-1539374400-1539379800@www.strawanzerin.at
SUMMARY:LUST-voll (Theaterbrett Wien)
DESCRIPTION:Ein zeitgenössisches Zirkusstück über Leidenschaft\, Bewegung und Begegnung.\nGenuss\, Vergnügen\, Hunger\, Begierde\, Verlangen.\nMit den Mitteln des Zeitgenössischen Zirkus treibt der Verein Momomento die Suche nach der Lust aller Facetten des Lebens in die Extreme und darüber hinaus. Musikalisch\, tänzerisch\, verspielt und atemberaubend riskant erforscht das vierköpfige Zirkusensemble die Spielarten der Lust unter den Zweigen eines verlockenden Apfelbaumes. \nReservierung & mehr Informationen unter: http://www.momomento.com\nam 12.\,13.\,14.Oktober 2018 um 20h\,\nim Theaterbrett: Münzwardeingasse 2\, 1060 Wien\nfreie Preisempfehlung 15€-30€ \n
URL:https://www.strawanzerin.at/termin/lust-voll-theaterbrett-wien/2018-10-12/
LOCATION:Theaterbrett Wien\, Münzwardeingasse 2\, 1060\, Wien\, 1060\, Österreich
CATEGORIES:ab 7,freie Spende,Kunst/Kultur,Mehrsprachig,Musik,Queer,Steiermark,Tanz,Theater/Kabarett,Wien
ATTACH;FMTTYPE=image/jpeg:https://www.strawanzerin.at/wp-content/uploads/2018/10/lustvoll-1.jpg
ORGANIZER;CN="zirkusverein%20momomento":MAILTO:ruth@momomento.com
END:VEVENT
END:VCALENDAR