BEGIN:VCALENDAR
VERSION:2.0
PRODID:-//STRAWANZERIN - ECPv4.9.5//NONSGML v1.0//EN
CALSCALE:GREGORIAN
METHOD:PUBLISH
X-WR-CALNAME:STRAWANZERIN
X-ORIGINAL-URL:https://www.strawanzerin.at
X-WR-CALDESC:Veranstaltungen im STRAWANZERIN
BEGIN:VTIMEZONE
TZID:"Europe/Helsinki"
BEGIN:DAYLIGHT
TZOFFSETFROM:+0200
TZOFFSETTO:+0300
TZNAME:EEST
DTSTART:20170326T010000
END:DAYLIGHT
BEGIN:STANDARD
TZOFFSETFROM:+0300
TZOFFSETTO:+0200
TZNAME:EET
DTSTART:20171029T010000
END:STANDARD
END:VTIMEZONE
BEGIN:VEVENT
DTSTART;TZID="Europe/Helsinki":20170307T190000
DTEND;TZID="Europe/Helsinki":20170307T210000
DTSTAMP:20260422T054157
CREATED:20170124T115752Z
LAST-MODIFIED:20170125T102545Z
UID:38983-1488913200-1488920400@www.strawanzerin.at
SUMMARY:LYRIK IM MÄRZ
DESCRIPTION:PARALLELWELT \nmit Gerhard Ruiss\, Augusta Laar\, Friederike Mayröcker\, Christine Haidegger; Waltraud Seidlhofer\, Christine Huber\, Ludwig Laher\, Stephan Eibel Erzberg; Chrisoph Janacs\, MarieThérèse Kerschbaumer\, Erika Wimmer\, Julian Schutting; Janko Ferk\, Ilse Kilic\, Robert Schindel\, Dine Petrik; Günter Vallaster\, Walter Baco\, Fritz Widhalm\, Ferdinand Schmatz; Mechthild PodzeitLütjen\, Peter Campa\, Jörg Piringer\, Si. Si. Klocker; Manfred Chobot\, Herbert J. Wimmer\, Jörg Zemmler \nEine Veranstaltung der Grazer Autorinnen Autorenversammlung\, organisiert und moderiert von Petra Ganglbauer & Gerhard Jaschke \n„aber noch liegen die donalds\, dagoberts / und düsentriebs / fröhlich\nin den strahlenden wiesen / und die entenmütter beschnattern /\ngeniessbare grenzwerte“ (Elfriede Gerstl) \n
URL:https://www.strawanzerin.at/termin/lyrik-im-maerz-3/
CATEGORIES:Deutsch,Gratis,Kunst/Kultur,Literatur,Wien
ORGANIZER;CN="GAV":MAILTO: office@gav.at
END:VEVENT
END:VCALENDAR